BEGIN:VCALENDAR
VERSION:2.0
PRODID:-//Arcidiocesi di Sassari - Sito ufficiale - ECPv6.15.20//NONSGML v1.0//EN
CALSCALE:GREGORIAN
METHOD:PUBLISH
X-ORIGINAL-URL:https://www.arcidiocesisassari.it
X-WR-CALDESC:Eventi per Arcidiocesi di Sassari - Sito ufficiale
REFRESH-INTERVAL;VALUE=DURATION:PT1H
X-Robots-Tag:noindex
X-PUBLISHED-TTL:PT1H
BEGIN:VTIMEZONE
TZID:Europe/Rome
BEGIN:DAYLIGHT
TZOFFSETFROM:+0100
TZOFFSETTO:+0200
TZNAME:CEST
DTSTART:20250330T010000
END:DAYLIGHT
BEGIN:STANDARD
TZOFFSETFROM:+0200
TZOFFSETTO:+0100
TZNAME:CET
DTSTART:20251026T010000
END:STANDARD
BEGIN:DAYLIGHT
TZOFFSETFROM:+0100
TZOFFSETTO:+0200
TZNAME:CEST
DTSTART:20260329T010000
END:DAYLIGHT
BEGIN:STANDARD
TZOFFSETFROM:+0200
TZOFFSETTO:+0100
TZNAME:CET
DTSTART:20261025T010000
END:STANDARD
BEGIN:DAYLIGHT
TZOFFSETFROM:+0100
TZOFFSETTO:+0200
TZNAME:CEST
DTSTART:20270328T010000
END:DAYLIGHT
BEGIN:STANDARD
TZOFFSETFROM:+0200
TZOFFSETTO:+0100
TZNAME:CET
DTSTART:20271031T010000
END:STANDARD
END:VTIMEZONE
BEGIN:VEVENT
DTSTART;TZID=Europe/Rome:20260425T091500
DTEND;TZID=Europe/Rome:20260425T091500
DTSTAMP:20260420T220016
CREATED:20260407T100225Z
LAST-MODIFIED:20260407T100235Z
UID:33003-1777108500-1777108500@www.arcidiocesisassari.it
SUMMARY:GIORNATA DEI MINISTRANTI 2026
DESCRIPTION:
URL:https://www.arcidiocesisassari.it/evento/giornata-dei-ministranti-2026/
LOCATION:Parrocchia Santa Vittoria\, Thiesi
CATEGORIES:In evidenza
ATTACH;FMTTYPE=image/png:https://www.arcidiocesisassari.it/wp-content/uploads/2026/04/LOCANDINA-GIORNATA-MINISTRANTI-2026_def.png
END:VEVENT
BEGIN:VEVENT
DTSTART;TZID=Europe/Rome:20260426T100000
DTEND;TZID=Europe/Rome:20260426T100000
DTSTAMP:20260420T220016
CREATED:20260420T130512Z
LAST-MODIFIED:20260420T130521Z
UID:35836-1777197600-1777197600@www.arcidiocesisassari.it
SUMMARY:Monsignor Francesco A. Soddu visita la Comunità di Chiaramonti
DESCRIPTION:
URL:https://www.arcidiocesisassari.it/evento/monsignor-francesco-a-soddu-visita-la-comunita-di-chiaramonti/
LOCATION:Chiaramonti
CATEGORIES:Eventi Diocesani,In evidenza
ATTACH;FMTTYPE=image/jpeg:https://www.arcidiocesisassari.it/wp-content/uploads/2026/04/107e8aa7-7010-4563-8f77-a8f840eeef8a.jpeg
END:VEVENT
BEGIN:VEVENT
DTSTART;TZID=Europe/Rome:20260426T110000
DTEND;TZID=Europe/Rome:20260426T110000
DTSTAMP:20260420T220016
CREATED:20260420T131539Z
LAST-MODIFIED:20260420T131547Z
UID:35839-1777201200-1777201200@www.arcidiocesisassari.it
SUMMARY:Cresime parrocchia Gesù Buon Pastore
DESCRIPTION:
URL:https://www.arcidiocesisassari.it/evento/cresime-parrocchia-gesu-buon-pastore/
LOCATION:Parrocchia Gesù Buon Pastore
CATEGORIES:Eventi Diocesani
ATTACH;FMTTYPE=image/jpeg:https://www.arcidiocesisassari.it/wp-content/uploads/2025/03/Gesu-Buon-Pastore.jpeg
END:VEVENT
END:VCALENDAR