BEGIN:VCALENDAR
VERSION:2.0
PRODID:-//Arcidiocesi di Sassari - Sito ufficiale - ECPv6.15.20//NONSGML v1.0//EN
CALSCALE:GREGORIAN
METHOD:PUBLISH
X-ORIGINAL-URL:https://www.arcidiocesisassari.it
X-WR-CALDESC:Eventi per Arcidiocesi di Sassari - Sito ufficiale
REFRESH-INTERVAL;VALUE=DURATION:PT1H
X-Robots-Tag:noindex
X-PUBLISHED-TTL:PT1H
BEGIN:VTIMEZONE
TZID:Europe/Rome
BEGIN:DAYLIGHT
TZOFFSETFROM:+0100
TZOFFSETTO:+0200
TZNAME:CEST
DTSTART:20250330T010000
END:DAYLIGHT
BEGIN:STANDARD
TZOFFSETFROM:+0200
TZOFFSETTO:+0100
TZNAME:CET
DTSTART:20251026T010000
END:STANDARD
BEGIN:DAYLIGHT
TZOFFSETFROM:+0100
TZOFFSETTO:+0200
TZNAME:CEST
DTSTART:20260329T010000
END:DAYLIGHT
BEGIN:STANDARD
TZOFFSETFROM:+0200
TZOFFSETTO:+0100
TZNAME:CET
DTSTART:20261025T010000
END:STANDARD
BEGIN:DAYLIGHT
TZOFFSETFROM:+0100
TZOFFSETTO:+0200
TZNAME:CEST
DTSTART:20270328T010000
END:DAYLIGHT
BEGIN:STANDARD
TZOFFSETFROM:+0200
TZOFFSETTO:+0100
TZNAME:CET
DTSTART:20271031T010000
END:STANDARD
END:VTIMEZONE
BEGIN:VEVENT
DTSTART;TZID=Europe/Rome:20260426T100000
DTEND;TZID=Europe/Rome:20260426T100000
DTSTAMP:20260423T002832
CREATED:20260420T130512Z
LAST-MODIFIED:20260420T130521Z
UID:35836-1777197600-1777197600@www.arcidiocesisassari.it
SUMMARY:Monsignor Francesco A. Soddu visita la Comunità di Chiaramonti
DESCRIPTION:
URL:https://www.arcidiocesisassari.it/evento/monsignor-francesco-a-soddu-visita-la-comunita-di-chiaramonti/
LOCATION:Chiaramonti
CATEGORIES:Eventi Diocesani,In evidenza
ATTACH;FMTTYPE=image/jpeg:https://www.arcidiocesisassari.it/wp-content/uploads/2026/04/107e8aa7-7010-4563-8f77-a8f840eeef8a.jpeg
END:VEVENT
BEGIN:VEVENT
DTSTART;TZID=Europe/Rome:20260426T110000
DTEND;TZID=Europe/Rome:20260426T110000
DTSTAMP:20260423T002832
CREATED:20260420T131539Z
LAST-MODIFIED:20260422T091735Z
UID:35839-1777201200-1777201200@www.arcidiocesisassari.it
SUMMARY:Cresime parrocchia Gesù Buon Pastore
DESCRIPTION:
URL:https://www.arcidiocesisassari.it/evento/cresime-parrocchia-gesu-buon-pastore/
LOCATION:Parrocchia Gesù Buon Pastore
CATEGORIES:Eventi Diocesani
ATTACH;FMTTYPE=image/jpeg:https://www.arcidiocesisassari.it/wp-content/uploads/2026/04/img_4565.jpg
END:VEVENT
BEGIN:VEVENT
DTSTART;TZID=Europe/Rome:20260501T110000
DTEND;TZID=Europe/Rome:20260501T110000
DTSTAMP:20260423T002832
CREATED:20260422T091637Z
LAST-MODIFIED:20260422T091644Z
UID:35869-1777633200-1777633200@www.arcidiocesisassari.it
SUMMARY:Cresime Parrocchia San Giuseppe
DESCRIPTION:
URL:https://www.arcidiocesisassari.it/evento/cresime-parrocchia-san-giuseppe/
LOCATION:Parrocchia San Giuseppe\, Sassari
CATEGORIES:Eventi Diocesani
ATTACH;FMTTYPE=image/jpeg:https://www.arcidiocesisassari.it/wp-content/uploads/2026/04/img_4565.jpg
END:VEVENT
BEGIN:VEVENT
DTSTART;TZID=Europe/Rome:20260501T110000
DTEND;TZID=Europe/Rome:20260628T200000
DTSTAMP:20260423T002832
CREATED:20260422T081457Z
LAST-MODIFIED:20260422T081524Z
UID:35864-1777633200-1782676800@www.arcidiocesisassari.it
SUMMARY:Mese Mariano e Festa del Voto 2026
DESCRIPTION:
URL:https://www.arcidiocesisassari.it/evento/mese-mariano-e-festa-del-voto-2026/
LOCATION:San Pietro in Silki\, Sassari
CATEGORIES:In evidenza
ATTACH;FMTTYPE=image/png:https://www.arcidiocesisassari.it/wp-content/uploads/2026/04/IMG_4563-1-scaled.png
END:VEVENT
BEGIN:VEVENT
DTSTART;TZID=Europe/Rome:20260502T110000
DTEND;TZID=Europe/Rome:20260502T110000
DTSTAMP:20260423T002832
CREATED:20260422T092135Z
LAST-MODIFIED:20260422T092142Z
UID:35872-1777719600-1777719600@www.arcidiocesisassari.it
SUMMARY:Cresime Parrocchia Sant’Orsola
DESCRIPTION:
URL:https://www.arcidiocesisassari.it/evento/cresime-parrocchia-santorsola-2/
LOCATION:Chiesa Sant’Orsola
CATEGORIES:Eventi Diocesani
ATTACH;FMTTYPE=image/jpeg:https://www.arcidiocesisassari.it/wp-content/uploads/2026/04/img_4565.jpg
END:VEVENT
BEGIN:VEVENT
DTSTART;TZID=Europe/Rome:20260502T163000
DTEND;TZID=Europe/Rome:20260502T163000
DTSTAMP:20260423T002832
CREATED:20260422T092351Z
LAST-MODIFIED:20260422T092902Z
UID:35874-1777739400-1777739400@www.arcidiocesisassari.it
SUMMARY:Parrocchia San Pietro Apostolo e Cristo Re
DESCRIPTION:
URL:https://www.arcidiocesisassari.it/evento/parrocchia-san-pietro-apostolo-e-cristo-re/
LOCATION:Ploaghe
CATEGORIES:Eventi Diocesani
ATTACH;FMTTYPE=image/jpeg:https://www.arcidiocesisassari.it/wp-content/uploads/2026/04/img_4565.jpg
END:VEVENT
BEGIN:VEVENT
DTSTART;TZID=Europe/Rome:20260503T110000
DTEND;TZID=Europe/Rome:20260503T110000
DTSTAMP:20260423T002832
CREATED:20260422T092953Z
LAST-MODIFIED:20260422T093000Z
UID:35876-1777806000-1777806000@www.arcidiocesisassari.it
SUMMARY:Cresime Parrocchia Santissimo Nome di Gesù
DESCRIPTION:
URL:https://www.arcidiocesisassari.it/evento/cresime-parrocchia-santissimo-nome-di-gesu/
LOCATION:SS
CATEGORIES:Eventi Diocesani
ATTACH;FMTTYPE=image/jpeg:https://www.arcidiocesisassari.it/wp-content/uploads/2026/04/img_4565.jpg
END:VEVENT
END:VCALENDAR