BEGIN:VCALENDAR
VERSION:2.0
PRODID:-//Arcidiocesi di Sassari - Sito ufficiale - ECPv6.15.20//NONSGML v1.0//EN
CALSCALE:GREGORIAN
METHOD:PUBLISH
X-ORIGINAL-URL:https://www.arcidiocesisassari.it
X-WR-CALDESC:Eventi per Arcidiocesi di Sassari - Sito ufficiale
REFRESH-INTERVAL;VALUE=DURATION:PT1H
X-Robots-Tag:noindex
X-PUBLISHED-TTL:PT1H
BEGIN:VTIMEZONE
TZID:Europe/Rome
BEGIN:DAYLIGHT
TZOFFSETFROM:+0100
TZOFFSETTO:+0200
TZNAME:CEST
DTSTART:20230326T010000
END:DAYLIGHT
BEGIN:STANDARD
TZOFFSETFROM:+0200
TZOFFSETTO:+0100
TZNAME:CET
DTSTART:20231029T010000
END:STANDARD
BEGIN:DAYLIGHT
TZOFFSETFROM:+0100
TZOFFSETTO:+0200
TZNAME:CEST
DTSTART:20240331T010000
END:DAYLIGHT
BEGIN:STANDARD
TZOFFSETFROM:+0200
TZOFFSETTO:+0100
TZNAME:CET
DTSTART:20241027T010000
END:STANDARD
BEGIN:DAYLIGHT
TZOFFSETFROM:+0100
TZOFFSETTO:+0200
TZNAME:CEST
DTSTART:20250330T010000
END:DAYLIGHT
BEGIN:STANDARD
TZOFFSETFROM:+0200
TZOFFSETTO:+0100
TZNAME:CET
DTSTART:20251026T010000
END:STANDARD
END:VTIMEZONE
BEGIN:VEVENT
DTSTART;TZID=Europe/Rome:20241211T153000
DTEND;TZID=Europe/Rome:20241211T153000
DTSTAMP:20260423T071857
CREATED:20241207T111159Z
LAST-MODIFIED:20241207T111253Z
UID:27918-1733931000-1733931000@www.arcidiocesisassari.it
SUMMARY:Corso LIS
DESCRIPTION:
URL:https://www.arcidiocesisassari.it/evento/corso-lis-4/
LOCATION:Centro di Alta Formazione “Padre Manzella”.\, Via Porcellana 29\, Sassari\, SS\, 07100\, Italia
CATEGORIES:Fondazione Accademia Casa di Popoli, Culture e Religioni
ATTACH;FMTTYPE=image/jpeg:https://www.arcidiocesisassari.it/wp-content/uploads/2024/11/Eventi-Sito-Web-Fondazione.jpg
END:VEVENT
BEGIN:VEVENT
DTSTART;TZID=Europe/Rome:20241211T150000
DTEND;TZID=Europe/Rome:20241211T150000
DTSTAMP:20260423T071857
CREATED:20241207T111614Z
LAST-MODIFIED:20241207T111655Z
UID:27920-1733929200-1733929200@www.arcidiocesisassari.it
SUMMARY:Intelligenza artificiale per il bene comune? Promosso da Pastorale Universitaria
DESCRIPTION:
URL:https://www.arcidiocesisassari.it/evento/intelligenza-artificiale-per-il-bene-comune-promosso-da-pastorale-universitaria/
LOCATION:Dipartimento di Giurisprudenza\, Viale Mancini 5
CATEGORIES:Fondazione Accademia Casa di Popoli, Culture e Religioni
ATTACH;FMTTYPE=image/png:https://www.arcidiocesisassari.it/wp-content/uploads/2024/12/Intelligenza-artificiale.png
END:VEVENT
BEGIN:VEVENT
DTSTART;TZID=Europe/Rome:20241205T200000
DTEND;TZID=Europe/Rome:20241205T200000
DTSTAMP:20260423T071857
CREATED:20241129T164142Z
LAST-MODIFIED:20241129T164205Z
UID:27776-1733428800-1733428800@www.arcidiocesisassari.it
SUMMARY:Concerto per San Nicola promosso dalla Fondazione Accademia
DESCRIPTION:
URL:https://www.arcidiocesisassari.it/evento/concerto-per-san-nicola-promosso-dalla-fondazione-accademia/
LOCATION:Cattedrale di San Nicola\, Sassari
CATEGORIES:Eventi Diocesani,Fondazione Accademia Casa di Popoli, Culture e Religioni
ATTACH;FMTTYPE=image/png:https://www.arcidiocesisassari.it/wp-content/uploads/2024/11/POST-SOCIAL-CONCERTO-MEDITAZIONE-5-DICEMBRE.png
END:VEVENT
BEGIN:VEVENT
DTSTART;TZID=Europe/Rome:20241130T090000
DTEND;TZID=Europe/Rome:20241130T090000
DTSTAMP:20260423T071857
CREATED:20241128T082338Z
LAST-MODIFIED:20241128T082449Z
UID:27743-1732957200-1732957200@www.arcidiocesisassari.it
SUMMARY:Corso Educatori in istituzioni educative e in realtà parrocchiali promosso dalla Fondazione Accademia
DESCRIPTION:
URL:https://www.arcidiocesisassari.it/evento/corso-educatori-in-istituzioni-educative-e-in-realta-parrocchiali-promosso-dalla-fondazione-accademia-2/
LOCATION:Centro di Alta Formazione “Padre Manzella”.\, Via Porcellana 29\, Sassari\, SS\, 07100\, Italia
CATEGORIES:Eventi Diocesani,Fondazione Accademia Casa di Popoli, Culture e Religioni
ATTACH;FMTTYPE=image/jpeg:https://www.arcidiocesisassari.it/wp-content/uploads/2024/11/Eventi-Sito-Web-Fondazione.jpg
END:VEVENT
BEGIN:VEVENT
DTSTART;TZID=Europe/Rome:20241127T153000
DTEND;TZID=Europe/Rome:20241127T170000
DTSTAMP:20260423T071857
CREATED:20241125T091003Z
LAST-MODIFIED:20241127T120749Z
UID:27641-1732721400-1732726800@www.arcidiocesisassari.it
SUMMARY:Corso LIS
DESCRIPTION:BROCHURE CORSO LIS 2024_stampa
URL:https://www.arcidiocesisassari.it/evento/corso-lis-2/
LOCATION:Centro di Alta Formazione “Padre Manzella”.\, Via Porcellana 29\, Sassari\, SS\, 07100\, Italia
CATEGORIES:Eventi Diocesani,Fondazione Accademia Casa di Popoli, Culture e Religioni
ATTACH;FMTTYPE=image/jpeg:https://www.arcidiocesisassari.it/wp-content/uploads/2024/11/Eventi-Sito-Web-Fondazione.jpg
END:VEVENT
BEGIN:VEVENT
DTSTART;TZID=Europe/Rome:20241124T100000
DTEND;TZID=Europe/Rome:20241124T120000
DTSTAMP:20260423T071857
CREATED:20241119T094803Z
LAST-MODIFIED:20241119T094803Z
UID:27480-1732442400-1732449600@www.arcidiocesisassari.it
SUMMARY:Scuola per consulenti della persona\, della coppia e della famiglia promosso dalla Fondazione Accademia
DESCRIPTION:
URL:https://www.arcidiocesisassari.it/evento/scuola-per-consulenti-della-persona-della-coppia-e-della-famiglia-promosso-dalla-fondazione-accademia-2/
LOCATION:Online
CATEGORIES:Fondazione Accademia Casa di Popoli, Culture e Religioni
ATTACH;FMTTYPE=image/jpeg:https://www.arcidiocesisassari.it/wp-content/uploads/2024/11/Eventi-Sito-Web-Fondazione.jpg
END:VEVENT
BEGIN:VEVENT
DTSTART;TZID=Europe/Rome:20241124T090000
DTEND;TZID=Europe/Rome:20241124T120000
DTSTAMP:20260423T071857
CREATED:20241119T094345Z
LAST-MODIFIED:20241119T094345Z
UID:27478-1732438800-1732449600@www.arcidiocesisassari.it
SUMMARY:Corso Nuove Ministerialità per la sinodalità e la missione. Laboratorio
DESCRIPTION:
URL:https://www.arcidiocesisassari.it/evento/corso-nuove-ministerialita-per-la-sinodalita-e-la-missione-laboratorio/
LOCATION:Centro di Alta Formazione “Padre Manzella”.\, Via Porcellana 29\, Sassari\, SS\, 07100\, Italia
CATEGORIES:Fondazione Accademia Casa di Popoli, Culture e Religioni
ATTACH;FMTTYPE=image/jpeg:https://www.arcidiocesisassari.it/wp-content/uploads/2024/11/Eventi-Sito-Web-Fondazione.jpg
END:VEVENT
BEGIN:VEVENT
DTSTART;TZID=Europe/Rome:20241123T100000
DTEND;TZID=Europe/Rome:20241123T120000
DTSTAMP:20260423T071857
CREATED:20241119T082959Z
LAST-MODIFIED:20241119T082959Z
UID:27454-1732356000-1732363200@www.arcidiocesisassari.it
SUMMARY:Scuola per consulenti della persona\, della coppia e della famiglia promosso dalla Fondazione Accademia
DESCRIPTION:
URL:https://www.arcidiocesisassari.it/evento/scuola-per-consulenti-della-persona-della-coppia-e-della-famiglia-promosso-dalla-fondazione-accademia/
LOCATION:Online
CATEGORIES:Fondazione Accademia Casa di Popoli, Culture e Religioni
ATTACH;FMTTYPE=image/jpeg:https://www.arcidiocesisassari.it/wp-content/uploads/2024/11/Eventi-Sito-Web-Fondazione.jpg
END:VEVENT
BEGIN:VEVENT
DTSTART;TZID=Europe/Rome:20241120T153000
DTEND;TZID=Europe/Rome:20241120T170000
DTSTAMP:20260423T071857
CREATED:20241118T150123Z
LAST-MODIFIED:20241118T150123Z
UID:27419-1732116600-1732122000@www.arcidiocesisassari.it
SUMMARY:Corso LIS
DESCRIPTION:
URL:https://www.arcidiocesisassari.it/evento/corso-lis/
LOCATION:Centro di Alta Formazione “Padre Manzella”.\, Via Porcellana 29\, Sassari\, SS\, 07100\, Italia
CATEGORIES:Fondazione Accademia Casa di Popoli, Culture e Religioni
ATTACH;FMTTYPE=image/jpeg:https://www.arcidiocesisassari.it/wp-content/uploads/2024/11/Eventi-Sito-Web-Fondazione.jpg
END:VEVENT
BEGIN:VEVENT
DTSTART;TZID=Europe/Rome:20241119T180000
DTEND;TZID=Europe/Rome:20241119T200000
DTSTAMP:20260423T071857
CREATED:20241118T142421Z
LAST-MODIFIED:20241118T144159Z
UID:27404-1732039200-1732046400@www.arcidiocesisassari.it
SUMMARY:L’uomo e la sua meravigliosa interiorità. Riflessioni sul senso della vita a partire dall’emotività umana promosso dall’Ufficio di Pastorale Universitaria
DESCRIPTION:
URL:https://www.arcidiocesisassari.it/evento/luomo-e-la-sua-meravigliosa-interiorita-riflessioni-sul-senso-della-vita-a-partire-dallemotivita-umana-promosso-dallufficio-di-pastorale-universitaria/
LOCATION:Polo Umanistico\, Via Zanfarino
CATEGORIES:Eventi Diocesani,Fondazione Accademia Casa di Popoli, Culture e Religioni
ATTACH;FMTTYPE=image/jpeg:https://www.arcidiocesisassari.it/wp-content/uploads/2024/11/Eventi-Sito-Web-Fondazione.jpg
END:VEVENT
BEGIN:VEVENT
DTSTART;TZID=Europe/Rome:20241114T160000
DTEND;TZID=Europe/Rome:20241114T160000
DTSTAMP:20260423T071857
CREATED:20241112T112521Z
LAST-MODIFIED:20241112T112556Z
UID:27266-1731600000-1731600000@www.arcidiocesisassari.it
SUMMARY:Tavola rotonda in preparazione alla Giornata Mondiale del Povero organizzata dalla Caritas diocesana in collaborazione con la Fondazione Accademia
DESCRIPTION:
URL:https://www.arcidiocesisassari.it/evento/tavola-rotonda-in-preparazione-alla-giornata-mondiale-del-povero-organizzata-dalla-caritas-diocesana-in-collaborazione-con-la-fondazione-accademia/
LOCATION:Palazzo della Provincia\, Sala Angioy\, Piazza d'Italia\, Sassari\, Italy
CATEGORIES:Fondazione Accademia Casa di Popoli, Culture e Religioni
END:VEVENT
END:VCALENDAR