BEGIN:VCALENDAR
VERSION:2.0
PRODID:-//Arcidiocesi di Sassari - Sito ufficiale - ECPv6.15.20//NONSGML v1.0//EN
CALSCALE:GREGORIAN
METHOD:PUBLISH
X-WR-CALNAME:Arcidiocesi di Sassari - Sito ufficiale
X-ORIGINAL-URL:https://www.arcidiocesisassari.it
X-WR-CALDESC:Eventi per Arcidiocesi di Sassari - Sito ufficiale
REFRESH-INTERVAL;VALUE=DURATION:PT1H
X-Robots-Tag:noindex
X-PUBLISHED-TTL:PT1H
BEGIN:VTIMEZONE
TZID:Europe/Rome
BEGIN:DAYLIGHT
TZOFFSETFROM:+0100
TZOFFSETTO:+0200
TZNAME:CEST
DTSTART:20240331T010000
END:DAYLIGHT
BEGIN:STANDARD
TZOFFSETFROM:+0200
TZOFFSETTO:+0100
TZNAME:CET
DTSTART:20241027T010000
END:STANDARD
BEGIN:DAYLIGHT
TZOFFSETFROM:+0100
TZOFFSETTO:+0200
TZNAME:CEST
DTSTART:20250330T010000
END:DAYLIGHT
BEGIN:STANDARD
TZOFFSETFROM:+0200
TZOFFSETTO:+0100
TZNAME:CET
DTSTART:20251026T010000
END:STANDARD
BEGIN:DAYLIGHT
TZOFFSETFROM:+0100
TZOFFSETTO:+0200
TZNAME:CEST
DTSTART:20260329T010000
END:DAYLIGHT
BEGIN:STANDARD
TZOFFSETFROM:+0200
TZOFFSETTO:+0100
TZNAME:CET
DTSTART:20261025T010000
END:STANDARD
END:VTIMEZONE
BEGIN:VEVENT
DTSTART;TZID=Europe/Rome:20250603T160000
DTEND;TZID=Europe/Rome:20250603T160000
DTSTAMP:20260419T222812
CREATED:20250602T060729Z
LAST-MODIFIED:20250602T060737Z
UID:30976-1748966400-1748966400@www.arcidiocesisassari.it
SUMMARY:Corso pre-accademico di formazione musicale promosso dalla Fondazione Accademia
DESCRIPTION:
URL:https://www.arcidiocesisassari.it/evento/corso-pre-accademico-di-formazione-musicale-promosso-dalla-fondazione-accademia-42/
LOCATION:Centro di Alta Formazione “Padre Manzella”.\, Via Porcellana 29\, Sassari\, SS\, 07100\, Italia
CATEGORIES:Fondazione Accademia Casa di Popoli, Culture e Religioni
ATTACH;FMTTYPE=image/jpeg:https://www.arcidiocesisassari.it/wp-content/uploads/2024/11/Eventi-Sito-Web-Fondazione.jpg
END:VEVENT
BEGIN:VEVENT
DTSTART;TZID=Europe/Rome:20250606T180000
DTEND;TZID=Europe/Rome:20250606T180000
DTSTAMP:20260419T222813
CREATED:20250604T061816Z
LAST-MODIFIED:20250604T061836Z
UID:31005-1749232800-1749232800@www.arcidiocesisassari.it
SUMMARY:Corso Accademico "Musica e Liturgia"
DESCRIPTION:
URL:https://www.arcidiocesisassari.it/evento/corso-accademico-musica-e-liturgia-31/
LOCATION:SS
CATEGORIES:Fondazione Accademia Casa di Popoli, Culture e Religioni
ATTACH;FMTTYPE=image/jpeg:https://www.arcidiocesisassari.it/wp-content/uploads/2024/11/Eventi-Sito-Web-Fondazione.jpg
END:VEVENT
BEGIN:VEVENT
DTSTART;TZID=Europe/Rome:20250607T090000
DTEND;TZID=Europe/Rome:20250607T090000
DTSTAMP:20260419T222813
CREATED:20250604T062011Z
LAST-MODIFIED:20250604T062056Z
UID:31007-1749286800-1749286800@www.arcidiocesisassari.it
SUMMARY:Corso Accademico "Musica e Liturgia"
DESCRIPTION:
URL:https://www.arcidiocesisassari.it/evento/corso-accademico-musica-e-liturgia-32/
LOCATION:SS
CATEGORIES:Fondazione Accademia Casa di Popoli, Culture e Religioni
ATTACH;FMTTYPE=image/jpeg:https://www.arcidiocesisassari.it/wp-content/uploads/2024/11/Eventi-Sito-Web-Fondazione.jpg
END:VEVENT
BEGIN:VEVENT
DTSTART;TZID=Europe/Rome:20250613T160000
DTEND;TZID=Europe/Rome:20250613T160000
DTSTAMP:20260419T222813
CREATED:20250608T140326Z
LAST-MODIFIED:20250608T140350Z
UID:31046-1749830400-1749830400@www.arcidiocesisassari.it
SUMMARY:Corso pre-accademico di formazione musicale promosso dalla Fondazione Accademia
DESCRIPTION:
URL:https://www.arcidiocesisassari.it/evento/corso-pre-accademico-di-formazione-musicale-promosso-dalla-fondazione-accademia-45/
LOCATION:Centro di Alta Formazione “Padre Manzella”.\, Via Porcellana 29\, Sassari\, SS\, 07100\, Italia
CATEGORIES:Fondazione Accademia Casa di Popoli, Culture e Religioni
ATTACH;FMTTYPE=image/jpeg:https://www.arcidiocesisassari.it/wp-content/uploads/2024/11/Eventi-Sito-Web-Fondazione.jpg
END:VEVENT
BEGIN:VEVENT
DTSTART;TZID=Europe/Rome:20250614T090000
DTEND;TZID=Europe/Rome:20250614T090000
DTSTAMP:20260419T222813
CREATED:20250608T140808Z
LAST-MODIFIED:20250608T140819Z
UID:31050-1749891600-1749891600@www.arcidiocesisassari.it
SUMMARY:Corso Accademico "Musica e Liturgia"
DESCRIPTION:
URL:https://www.arcidiocesisassari.it/evento/corso-accademico-musica-e-liturgia-33/
LOCATION:Centro di Alta Formazione “Padre Manzella”.\, Via Porcellana 29\, Sassari\, SS\, 07100\, Italia
CATEGORIES:Fondazione Accademia Casa di Popoli, Culture e Religioni
ATTACH;FMTTYPE=image/jpeg:https://www.arcidiocesisassari.it/wp-content/uploads/2024/11/Eventi-Sito-Web-Fondazione.jpg
END:VEVENT
BEGIN:VEVENT
DTSTART;TZID=Europe/Rome:20250617T200000
DTEND;TZID=Europe/Rome:20250617T200000
DTSTAMP:20260419T222813
CREATED:20250615T170637Z
LAST-MODIFIED:20250615T170645Z
UID:31095-1750190400-1750190400@www.arcidiocesisassari.it
SUMMARY:Saggi di musica. Organizzato dal Dipartimento di Musica Sacra e Liturgica della Fondazione Accademia
DESCRIPTION:
URL:https://www.arcidiocesisassari.it/evento/saggi-di-musica-organizzato-dal-dipartimento-di-musica-sacra-e-liturgica-della-fondazione-accademia/
LOCATION:Basilica Sacro Cuore\, Sassari
CATEGORIES:Eventi Diocesani,Fondazione Accademia Casa di Popoli, Culture e Religioni
ATTACH;FMTTYPE=image/png:https://www.arcidiocesisassari.it/wp-content/uploads/2025/06/POST-SOCIAL-SAGGI-DI-STUDIO-scaled.png
END:VEVENT
END:VCALENDAR