BEGIN:VCALENDAR
VERSION:2.0
PRODID:-//Arcidiocesi di Sassari - Sito ufficiale - ECPv6.15.20//NONSGML v1.0//EN
CALSCALE:GREGORIAN
METHOD:PUBLISH
X-ORIGINAL-URL:https://www.arcidiocesisassari.it
X-WR-CALDESC:Eventi per Arcidiocesi di Sassari - Sito ufficiale
REFRESH-INTERVAL;VALUE=DURATION:PT1H
X-Robots-Tag:noindex
X-PUBLISHED-TTL:PT1H
BEGIN:VTIMEZONE
TZID:Europe/Rome
BEGIN:DAYLIGHT
TZOFFSETFROM:+0100
TZOFFSETTO:+0200
TZNAME:CEST
DTSTART:20250330T010000
END:DAYLIGHT
BEGIN:STANDARD
TZOFFSETFROM:+0200
TZOFFSETTO:+0100
TZNAME:CET
DTSTART:20251026T010000
END:STANDARD
BEGIN:DAYLIGHT
TZOFFSETFROM:+0100
TZOFFSETTO:+0200
TZNAME:CEST
DTSTART:20260329T010000
END:DAYLIGHT
BEGIN:STANDARD
TZOFFSETFROM:+0200
TZOFFSETTO:+0100
TZNAME:CET
DTSTART:20261025T010000
END:STANDARD
BEGIN:DAYLIGHT
TZOFFSETFROM:+0100
TZOFFSETTO:+0200
TZNAME:CEST
DTSTART:20270328T010000
END:DAYLIGHT
BEGIN:STANDARD
TZOFFSETFROM:+0200
TZOFFSETTO:+0100
TZNAME:CET
DTSTART:20271031T010000
END:STANDARD
END:VTIMEZONE
BEGIN:VEVENT
DTSTART;TZID=Europe/Rome:20260417T180000
DTEND;TZID=Europe/Rome:20260417T180000
DTSTAMP:20260420T194054
CREATED:20260416T074414Z
LAST-MODIFIED:20260416T074436Z
UID:35739-1776448800-1776448800@www.arcidiocesisassari.it
SUMMARY:Corso promosso dalla Fondazione Accademia "Musica e Liturgia"
DESCRIPTION:
URL:https://www.arcidiocesisassari.it/evento/corso-promosso-dalla-fondazione-accademia-musica-e-liturgia-50/
LOCATION:Centro di Alta Formazione “Padre Manzella”.\, Via Porcellana 29\, Sassari\, SS\, 07100\, Italia
CATEGORIES:Eventi Diocesani
END:VEVENT
BEGIN:VEVENT
DTSTART;TZID=Europe/Rome:20260418T080000
DTEND;TZID=Europe/Rome:20260418T170000
DTSTAMP:20260420T194054
CREATED:20260325T135907Z
LAST-MODIFIED:20260416T080925Z
UID:32909-1776499200-1776531600@www.arcidiocesisassari.it
SUMMARY:LA CHIESA TURRITANA ACCOGLIE IL NUOVO ARCIVESCOVO MONS. FRANCESCO ANTONIO SODDU
DESCRIPTION:
URL:https://www.arcidiocesisassari.it/evento/la-chiesa-turritana-accoglie-il-nuovo-arcivescovo-mons-francesco-antonio-soddu/
LOCATION:Cattedrale di San Nicola\, Sassari
CATEGORIES:Eventi Diocesani,In evidenza
ATTACH;FMTTYPE=image/png:https://www.arcidiocesisassari.it/wp-content/uploads/2026/03/LOCANDINA-INGRESSO-MONS-SODDU-new.png
END:VEVENT
BEGIN:VEVENT
DTSTART;TZID=Europe/Rome:20260418T093000
DTEND;TZID=Europe/Rome:20260418T093000
DTSTAMP:20260420T194054
CREATED:20260416T075418Z
LAST-MODIFIED:20260416T075504Z
UID:35744-1776504600-1776504600@www.arcidiocesisassari.it
SUMMARY:Corso promosso dalla Fondazione Accademia "Musica e Liturgia"
DESCRIPTION:
URL:https://www.arcidiocesisassari.it/evento/corso-promosso-dalla-fondazione-accademia-musica-e-liturgia-51/
LOCATION:Centro di Alta Formazione “Padre Manzella”.\, Via Porcellana 29\, Sassari\, SS\, 07100\, Italia
CATEGORIES:Eventi Diocesani
END:VEVENT
BEGIN:VEVENT
DTSTART;TZID=Europe/Rome:20260418T100000
DTEND;TZID=Europe/Rome:20260418T100000
DTSTAMP:20260420T194054
CREATED:20260416T075111Z
LAST-MODIFIED:20260416T075155Z
UID:35741-1776506400-1776506400@www.arcidiocesisassari.it
SUMMARY:Cresime parrocchia San Domenico (loc. Caniga) e Maria Ausiliatrice (loc. la Landrigga)
DESCRIPTION:
URL:https://www.arcidiocesisassari.it/evento/cresime-parrocchia-san-domenico-loc-caniga-e-maria-ausiliatrice-loc-la-landrigga/
LOCATION:Chiesa Maria Ausiliatrice – Sassari
CATEGORIES:Eventi Diocesani
ATTACH;FMTTYPE=image/png:https://www.arcidiocesisassari.it/wp-content/uploads/2024/11/logo-diocesi.png
END:VEVENT
BEGIN:VEVENT
DTSTART;TZID=Europe/Rome:20260419T093000
DTEND;TZID=Europe/Rome:20260419T173000
DTSTAMP:20260420T194054
CREATED:20260331T181912Z
LAST-MODIFIED:20260416T081948Z
UID:32936-1776591000-1776619800@www.arcidiocesisassari.it
SUMMARY:FESTA DIOCESANA DEI CRESIMANDI E CRESIMATI
DESCRIPTION:
URL:https://www.arcidiocesisassari.it/evento/festa-diocesana-dei-cresimandi-e-cresimati/
LOCATION:Chiesa di Santa Caterina\, Sassari
CATEGORIES:Eventi Diocesani,In evidenza
ATTACH;FMTTYPE=image/png:https://www.arcidiocesisassari.it/wp-content/uploads/2026/03/LOCANDINA-CRESIMANDI-2026_def.png
END:VEVENT
BEGIN:VEVENT
DTSTART;TZID=Europe/Rome:20260422T170000
DTEND;TZID=Europe/Rome:20260422T170000
DTSTAMP:20260420T194054
CREATED:20260420T130218Z
LAST-MODIFIED:20260420T130233Z
UID:35832-1776877200-1776877200@www.arcidiocesisassari.it
SUMMARY:Dignitas Infinita della persona umana: stupore anche per Dio che l'ha creata
DESCRIPTION:
URL:https://www.arcidiocesisassari.it/evento/dignitas-infinita-della-persona-umana-stupore-anche-per-dio-che-lha-creata/
LOCATION:Auditorium Giovanni Paolo II\, Sassari
CATEGORIES:Eventi Diocesani,In evidenza
ATTACH;FMTTYPE=image/jpeg:https://www.arcidiocesisassari.it/wp-content/uploads/2026/04/f625ce59-c5d0-47e0-a81c-e0aaa3e65626.jpeg
END:VEVENT
BEGIN:VEVENT
DTSTART;TZID=Europe/Rome:20260424T110000
DTEND;TZID=Europe/Rome:20260424T110000
DTSTAMP:20260420T194054
CREATED:20260420T131741Z
LAST-MODIFIED:20260420T131806Z
UID:35841-1777028400-1777028400@www.arcidiocesisassari.it
SUMMARY:Centenario della Basilica di Nostra Signora di Bonaria
DESCRIPTION:
URL:https://www.arcidiocesisassari.it/evento/centenario-della-basilica-di-nostra-signora-di-bonaria/
LOCATION:N.S. di Bonaria – Cagliari
CATEGORIES:Eventi Diocesani
ATTACH;FMTTYPE=image/jpeg:https://www.arcidiocesisassari.it/wp-content/uploads/2026/04/Bonaria.jpg
END:VEVENT
BEGIN:VEVENT
DTSTART;TZID=Europe/Rome:20260426T100000
DTEND;TZID=Europe/Rome:20260426T100000
DTSTAMP:20260420T194054
CREATED:20260420T130512Z
LAST-MODIFIED:20260420T130521Z
UID:35836-1777197600-1777197600@www.arcidiocesisassari.it
SUMMARY:Monsignor Francesco A. Soddu visita la Comunità di Chiaramonti
DESCRIPTION:
URL:https://www.arcidiocesisassari.it/evento/monsignor-francesco-a-soddu-visita-la-comunita-di-chiaramonti/
LOCATION:Chiaramonti
CATEGORIES:Eventi Diocesani,In evidenza
ATTACH;FMTTYPE=image/jpeg:https://www.arcidiocesisassari.it/wp-content/uploads/2026/04/107e8aa7-7010-4563-8f77-a8f840eeef8a.jpeg
END:VEVENT
BEGIN:VEVENT
DTSTART;TZID=Europe/Rome:20260426T110000
DTEND;TZID=Europe/Rome:20260426T110000
DTSTAMP:20260420T194054
CREATED:20260420T131539Z
LAST-MODIFIED:20260420T131547Z
UID:35839-1777201200-1777201200@www.arcidiocesisassari.it
SUMMARY:Cresime parrocchia Gesù Buon Pastore
DESCRIPTION:
URL:https://www.arcidiocesisassari.it/evento/cresime-parrocchia-gesu-buon-pastore/
LOCATION:Parrocchia Gesù Buon Pastore
CATEGORIES:Eventi Diocesani
ATTACH;FMTTYPE=image/jpeg:https://www.arcidiocesisassari.it/wp-content/uploads/2025/03/Gesu-Buon-Pastore.jpeg
END:VEVENT
END:VCALENDAR