BEGIN:VCALENDAR
VERSION:2.0
PRODID:-//Arcidiocesi di Sassari - Sito ufficiale - ECPv6.15.20//NONSGML v1.0//EN
CALSCALE:GREGORIAN
METHOD:PUBLISH
X-ORIGINAL-URL:https://www.arcidiocesisassari.it
X-WR-CALDESC:Eventi per Arcidiocesi di Sassari - Sito ufficiale
REFRESH-INTERVAL;VALUE=DURATION:PT1H
X-Robots-Tag:noindex
X-PUBLISHED-TTL:PT1H
BEGIN:VTIMEZONE
TZID:Europe/Rome
BEGIN:DAYLIGHT
TZOFFSETFROM:+0100
TZOFFSETTO:+0200
TZNAME:CEST
DTSTART:20240331T010000
END:DAYLIGHT
BEGIN:STANDARD
TZOFFSETFROM:+0200
TZOFFSETTO:+0100
TZNAME:CET
DTSTART:20241027T010000
END:STANDARD
BEGIN:DAYLIGHT
TZOFFSETFROM:+0100
TZOFFSETTO:+0200
TZNAME:CEST
DTSTART:20250330T010000
END:DAYLIGHT
BEGIN:STANDARD
TZOFFSETFROM:+0200
TZOFFSETTO:+0100
TZNAME:CET
DTSTART:20251026T010000
END:STANDARD
BEGIN:DAYLIGHT
TZOFFSETFROM:+0100
TZOFFSETTO:+0200
TZNAME:CEST
DTSTART:20260329T010000
END:DAYLIGHT
BEGIN:STANDARD
TZOFFSETFROM:+0200
TZOFFSETTO:+0100
TZNAME:CET
DTSTART:20261025T010000
END:STANDARD
END:VTIMEZONE
BEGIN:VEVENT
DTSTART;TZID=Europe/Rome:20250515T090000
DTEND;TZID=Europe/Rome:20250515T090000
DTSTAMP:20260422T185831
CREATED:20250513T062912Z
LAST-MODIFIED:20250513T063019Z
UID:30756-1747299600-1747299600@www.arcidiocesisassari.it
SUMMARY:Paregrinatio in ospedale della B.V. delle Grazie promossa insieme all’Ufficio di pastorale della salute diocesano
DESCRIPTION:
URL:https://www.arcidiocesisassari.it/evento/paregrinatio-in-ospedale-della-b-v-delle-grazie-promossa-insieme-allufficio-di-pastorale-della-salute-diocesano/
LOCATION:Ospedali cittadini
CATEGORIES:Eventi Diocesani
ATTACH;FMTTYPE=image/jpeg:https://www.arcidiocesisassari.it/wp-content/uploads/2021/05/MadonnaGrazie1.jpeg
END:VEVENT
BEGIN:VEVENT
DTSTART;TZID=Europe/Rome:20250515T100000
DTEND;TZID=Europe/Rome:20250515T100000
DTSTAMP:20260422T185831
CREATED:20250513T062643Z
LAST-MODIFIED:20250513T062705Z
UID:30754-1747303200-1747303200@www.arcidiocesisassari.it
SUMMARY:Incontro di coordinamento con i Vicari Foranei e il Centro Pastorale diocesano
DESCRIPTION:
URL:https://www.arcidiocesisassari.it/evento/incontro-di-coordinamento-con-i-vicari-foranei-e-il-centro-pastorale-diocesano-7/
LOCATION:Centro pastorale\, Via dei mille 19 – Sassari
CATEGORIES:Eventi Diocesani
ATTACH;FMTTYPE=image/jpeg:https://www.arcidiocesisassari.it/wp-content/uploads/2024/10/centro-pastorale.jpeg
END:VEVENT
END:VCALENDAR