BEGIN:VCALENDAR
VERSION:2.0
PRODID:-//Arcidiocesi di Sassari - Sito ufficiale - ECPv6.15.20//NONSGML v1.0//EN
CALSCALE:GREGORIAN
METHOD:PUBLISH
X-WR-CALNAME:Arcidiocesi di Sassari - Sito ufficiale
X-ORIGINAL-URL:https://www.arcidiocesisassari.it
X-WR-CALDESC:Eventi per Arcidiocesi di Sassari - Sito ufficiale
REFRESH-INTERVAL;VALUE=DURATION:PT1H
X-Robots-Tag:noindex
X-PUBLISHED-TTL:PT1H
BEGIN:VTIMEZONE
TZID:Europe/Rome
BEGIN:DAYLIGHT
TZOFFSETFROM:+0100
TZOFFSETTO:+0200
TZNAME:CEST
DTSTART:20240331T010000
END:DAYLIGHT
BEGIN:STANDARD
TZOFFSETFROM:+0200
TZOFFSETTO:+0100
TZNAME:CET
DTSTART:20241027T010000
END:STANDARD
BEGIN:DAYLIGHT
TZOFFSETFROM:+0100
TZOFFSETTO:+0200
TZNAME:CEST
DTSTART:20250330T010000
END:DAYLIGHT
BEGIN:STANDARD
TZOFFSETFROM:+0200
TZOFFSETTO:+0100
TZNAME:CET
DTSTART:20251026T010000
END:STANDARD
BEGIN:DAYLIGHT
TZOFFSETFROM:+0100
TZOFFSETTO:+0200
TZNAME:CEST
DTSTART:20260329T010000
END:DAYLIGHT
BEGIN:STANDARD
TZOFFSETFROM:+0200
TZOFFSETTO:+0100
TZNAME:CET
DTSTART:20261025T010000
END:STANDARD
END:VTIMEZONE
BEGIN:VEVENT
DTSTART;TZID=Europe/Rome:20250514T110000
DTEND;TZID=Europe/Rome:20250514T110000
DTSTAMP:20260422T185549
CREATED:20250512T064435Z
LAST-MODIFIED:20250512T064442Z
UID:30742-1747220400-1747220400@www.arcidiocesisassari.it
SUMMARY:Ordinazione presbiterale del diacono dom Diacono Dom Mattia Dang Han Tran e ordinazione diaconale dell’Accolito Giovanni Masia presieduta dall’Arcivescovo
DESCRIPTION:
URL:https://www.arcidiocesisassari.it/evento/ordinazione-presbiterale-del-diacono-dom-diacono-dom-mattia-dang-han-tran-e-ordinazione-diaconale-dellaccolito-giovanni-masia-presieduta-dallarcivescovo/
LOCATION:Monastero San Pietro di Sorres
CATEGORIES:Eventi Diocesani
ATTACH;FMTTYPE=image/png:https://www.arcidiocesisassari.it/wp-content/uploads/2025/04/post-social-ordinazioni-14-maggio-2025-1-1.png
END:VEVENT
BEGIN:VEVENT
DTSTART;TZID=Europe/Rome:20250514T183000
DTEND;TZID=Europe/Rome:20250514T183000
DTSTAMP:20260422T185549
CREATED:20250512T064632Z
LAST-MODIFIED:20250512T064639Z
UID:30744-1747247400-1747247400@www.arcidiocesisassari.it
SUMMARY:Celebrazione eucaristica con i malati e di coloro che ne prendono cura\, presieduta dall’Arcivescovo
DESCRIPTION:
URL:https://www.arcidiocesisassari.it/evento/celebrazione-eucaristica-con-i-malati-e-di-coloro-che-ne-prendono-cura-presieduta-dallarcivescovo/
LOCATION:San Pietro in Silki\, Sassari
CATEGORIES:Eventi Diocesani
ATTACH;FMTTYPE=image/jpeg:https://www.arcidiocesisassari.it/wp-content/uploads/2019/05/silki.jpg
END:VEVENT
END:VCALENDAR