BEGIN:VCALENDAR
VERSION:2.0
PRODID:-//Arcidiocesi di Sassari - Sito ufficiale - ECPv6.15.20//NONSGML v1.0//EN
CALSCALE:GREGORIAN
METHOD:PUBLISH
X-WR-CALNAME:Arcidiocesi di Sassari - Sito ufficiale
X-ORIGINAL-URL:https://www.arcidiocesisassari.it
X-WR-CALDESC:Eventi per Arcidiocesi di Sassari - Sito ufficiale
REFRESH-INTERVAL;VALUE=DURATION:PT1H
X-Robots-Tag:noindex
X-PUBLISHED-TTL:PT1H
BEGIN:VTIMEZONE
TZID:Europe/Rome
BEGIN:DAYLIGHT
TZOFFSETFROM:+0100
TZOFFSETTO:+0200
TZNAME:CEST
DTSTART:20240331T010000
END:DAYLIGHT
BEGIN:STANDARD
TZOFFSETFROM:+0200
TZOFFSETTO:+0100
TZNAME:CET
DTSTART:20241027T010000
END:STANDARD
BEGIN:DAYLIGHT
TZOFFSETFROM:+0100
TZOFFSETTO:+0200
TZNAME:CEST
DTSTART:20250330T010000
END:DAYLIGHT
BEGIN:STANDARD
TZOFFSETFROM:+0200
TZOFFSETTO:+0100
TZNAME:CET
DTSTART:20251026T010000
END:STANDARD
BEGIN:DAYLIGHT
TZOFFSETFROM:+0100
TZOFFSETTO:+0200
TZNAME:CEST
DTSTART:20260329T010000
END:DAYLIGHT
BEGIN:STANDARD
TZOFFSETFROM:+0200
TZOFFSETTO:+0100
TZNAME:CET
DTSTART:20261025T010000
END:STANDARD
END:VTIMEZONE
BEGIN:VEVENT
DTSTART;TZID=Europe/Rome:20250510T090000
DTEND;TZID=Europe/Rome:20250510T090000
DTSTAMP:20260422T185549
CREATED:20250509T232829Z
LAST-MODIFIED:20250509T232835Z
UID:30697-1746867600-1746867600@www.arcidiocesisassari.it
SUMMARY:Pellegrinaggio Mariano al Santuario di Nostra Signora di Valverde (Alghero) dell’Usmi
DESCRIPTION:
URL:https://www.arcidiocesisassari.it/evento/pellegrinaggio-mariano-al-santuario-di-nostra-signora-di-valverde-alghero-dellusmi/
CATEGORIES:Eventi Diocesani
ATTACH;FMTTYPE=image/png:https://www.arcidiocesisassari.it/wp-content/uploads/2018/11/cropped-logo2_2.png
END:VEVENT
BEGIN:VEVENT
DTSTART;TZID=Europe/Rome:20250510T090000
DTEND;TZID=Europe/Rome:20250510T090000
DTSTAMP:20260422T185549
CREATED:20250509T232948Z
LAST-MODIFIED:20250509T232956Z
UID:30699-1746867600-1746867600@www.arcidiocesisassari.it
SUMMARY:Corso Accademico "Musica e Liturgia"
DESCRIPTION:
URL:https://www.arcidiocesisassari.it/evento/corso-accademico-musica-e-liturgia-26/
LOCATION:Centro di Alta Formazione “Padre Manzella”.\, Via Porcellana 29\, Sassari\, SS\, 07100\, Italia
CATEGORIES:Eventi Diocesani
ATTACH;FMTTYPE=image/jpeg:https://www.arcidiocesisassari.it/wp-content/uploads/2024/11/Eventi-Sito-Web-Fondazione.jpg
END:VEVENT
BEGIN:VEVENT
DTSTART;TZID=Europe/Rome:20250510T180000
DTEND;TZID=Europe/Rome:20250510T180000
DTSTAMP:20260422T185549
CREATED:20250509T233151Z
LAST-MODIFIED:20250509T233337Z
UID:30701-1746900000-1746900000@www.arcidiocesisassari.it
SUMMARY:Celebrazione eucaristica presieduta dall'Arcivescovo Mons. Gian Franco Saba per il Papa Leone XIV
DESCRIPTION:
URL:https://www.arcidiocesisassari.it/evento/celebrazione-eucaristica-presieduta-dallarcivescovo-mon-gian-franco-saba-per-il-papa-leone-xiv/
LOCATION:Cattedrale di San Nicola\, Sassari
CATEGORIES:Eventi Diocesani
ATTACH;FMTTYPE=image/jpeg:https://www.arcidiocesisassari.it/wp-content/uploads/2025/05/PHOTO-2025-05-09-19-57-02.jpg
END:VEVENT
END:VCALENDAR