BEGIN:VCALENDAR
VERSION:2.0
PRODID:-//Arcidiocesi di Sassari - Sito ufficiale - ECPv6.15.20//NONSGML v1.0//EN
CALSCALE:GREGORIAN
METHOD:PUBLISH
X-ORIGINAL-URL:https://www.arcidiocesisassari.it
X-WR-CALDESC:Eventi per Arcidiocesi di Sassari - Sito ufficiale
REFRESH-INTERVAL;VALUE=DURATION:PT1H
X-Robots-Tag:noindex
X-PUBLISHED-TTL:PT1H
BEGIN:VTIMEZONE
TZID:Europe/Rome
BEGIN:DAYLIGHT
TZOFFSETFROM:+0100
TZOFFSETTO:+0200
TZNAME:CEST
DTSTART:20240331T010000
END:DAYLIGHT
BEGIN:STANDARD
TZOFFSETFROM:+0200
TZOFFSETTO:+0100
TZNAME:CET
DTSTART:20241027T010000
END:STANDARD
BEGIN:DAYLIGHT
TZOFFSETFROM:+0100
TZOFFSETTO:+0200
TZNAME:CEST
DTSTART:20250330T010000
END:DAYLIGHT
BEGIN:STANDARD
TZOFFSETFROM:+0200
TZOFFSETTO:+0100
TZNAME:CET
DTSTART:20251026T010000
END:STANDARD
BEGIN:DAYLIGHT
TZOFFSETFROM:+0100
TZOFFSETTO:+0200
TZNAME:CEST
DTSTART:20260329T010000
END:DAYLIGHT
BEGIN:STANDARD
TZOFFSETFROM:+0200
TZOFFSETTO:+0100
TZNAME:CET
DTSTART:20261025T010000
END:STANDARD
END:VTIMEZONE
BEGIN:VEVENT
DTSTART;TZID=Europe/Rome:20250508T100000
DTEND;TZID=Europe/Rome:20250508T100000
DTSTAMP:20260422T185755
CREATED:20250507T133336Z
LAST-MODIFIED:20250507T133345Z
UID:30659-1746698400-1746698400@www.arcidiocesisassari.it
SUMMARY:Ritiro del Clero
DESCRIPTION:
URL:https://www.arcidiocesisassari.it/evento/ritiro-del-clero-5/
LOCATION:Basilica Santi Martiri Gavino\, Proto e Gianuario. Porto Torres.
CATEGORIES:Eventi Diocesani
ATTACH;FMTTYPE=image/jpeg:https://www.arcidiocesisassari.it/wp-content/uploads/2022/01/Messaggio-Porto-Torres_file-def-stampa.jpg
END:VEVENT
BEGIN:VEVENT
DTSTART;TZID=Europe/Rome:20250508T150000
DTEND;TZID=Europe/Rome:20250508T170000
DTSTAMP:20260422T185755
CREATED:20250507T133501Z
LAST-MODIFIED:20250507T133527Z
UID:30662-1746716400-1746723600@www.arcidiocesisassari.it
SUMMARY:Corso Accademico "Musica e Liturgia"
DESCRIPTION:
URL:https://www.arcidiocesisassari.it/evento/corso-accademico-musica-e-liturgia-24/
LOCATION:Centro di Alta Formazione “Padre Manzella”.\, Via Porcellana 29\, Sassari\, SS\, 07100\, Italia
CATEGORIES:Eventi Diocesani
ATTACH;FMTTYPE=image/jpeg:https://www.arcidiocesisassari.it/wp-content/uploads/2024/11/Eventi-Sito-Web-Fondazione.jpg
END:VEVENT
BEGIN:VEVENT
DTSTART;TZID=Europe/Rome:20250508T183000
DTEND;TZID=Europe/Rome:20250508T183000
DTSTAMP:20260422T185755
CREATED:20250508T093100Z
LAST-MODIFIED:20250508T093109Z
UID:30666-1746729000-1746729000@www.arcidiocesisassari.it
SUMMARY:Percorso di preghiera e adorazione eucaristica “Pellegrini di speranza per donare  speranza”
DESCRIPTION:
URL:https://www.arcidiocesisassari.it/evento/percorso-di-preghiera-e-adorazione-eucaristica-pellegrini-di-speranza-per-donare-speranza-4/
LOCATION:Parrocchia Cristo Redentore
CATEGORIES:Eventi Diocesani
ATTACH;FMTTYPE=image/jpeg:https://www.arcidiocesisassari.it/wp-content/uploads/2025/02/cristo-redentore.jpeg
END:VEVENT
BEGIN:VEVENT
DTSTART;TZID=Europe/Rome:20250508T210000
DTEND;TZID=Europe/Rome:20250508T210000
DTSTAMP:20260422T185755
CREATED:20250508T093154Z
LAST-MODIFIED:20250508T093202Z
UID:30668-1746738000-1746738000@www.arcidiocesisassari.it
SUMMARY:Veglia di preghiera promossa dalla Pastorale dell’Università
DESCRIPTION:
URL:https://www.arcidiocesisassari.it/evento/veglia-di-preghiera-promossa-dalla-pastorale-delluniversita/
LOCATION:San Pietro in Silki\, Sassari
CATEGORIES:Eventi Diocesani
ATTACH;FMTTYPE=image/jpeg:https://www.arcidiocesisassari.it/wp-content/uploads/2019/05/silki.jpg
END:VEVENT
END:VCALENDAR