BEGIN:VCALENDAR
VERSION:2.0
PRODID:-//Arcidiocesi di Sassari - Sito ufficiale - ECPv6.15.20//NONSGML v1.0//EN
CALSCALE:GREGORIAN
METHOD:PUBLISH
X-ORIGINAL-URL:https://www.arcidiocesisassari.it
X-WR-CALDESC:Eventi per Arcidiocesi di Sassari - Sito ufficiale
REFRESH-INTERVAL;VALUE=DURATION:PT1H
X-Robots-Tag:noindex
X-PUBLISHED-TTL:PT1H
BEGIN:VTIMEZONE
TZID:Europe/Rome
BEGIN:DAYLIGHT
TZOFFSETFROM:+0100
TZOFFSETTO:+0200
TZNAME:CEST
DTSTART:20240331T010000
END:DAYLIGHT
BEGIN:STANDARD
TZOFFSETFROM:+0200
TZOFFSETTO:+0100
TZNAME:CET
DTSTART:20241027T010000
END:STANDARD
BEGIN:DAYLIGHT
TZOFFSETFROM:+0100
TZOFFSETTO:+0200
TZNAME:CEST
DTSTART:20250330T010000
END:DAYLIGHT
BEGIN:STANDARD
TZOFFSETFROM:+0200
TZOFFSETTO:+0100
TZNAME:CET
DTSTART:20251026T010000
END:STANDARD
BEGIN:DAYLIGHT
TZOFFSETFROM:+0100
TZOFFSETTO:+0200
TZNAME:CEST
DTSTART:20260329T010000
END:DAYLIGHT
BEGIN:STANDARD
TZOFFSETFROM:+0200
TZOFFSETTO:+0100
TZNAME:CET
DTSTART:20261025T010000
END:STANDARD
END:VTIMEZONE
BEGIN:VEVENT
DTSTART;TZID=Europe/Rome:20250418T080000
DTEND;TZID=Europe/Rome:20250418T080000
DTSTAMP:20260422T203912
CREATED:20250414T091859Z
LAST-MODIFIED:20250414T091909Z
UID:30289-1744963200-1744963200@www.arcidiocesisassari.it
SUMMARY:Ufficio delle Letture e Lodi Mattutine
DESCRIPTION:
URL:https://www.arcidiocesisassari.it/evento/ufficio-delle-letture-e-lodi-mattutine/
LOCATION:Cattedrale di San Nicola\, Sassari
CATEGORIES:Eventi Diocesani
ATTACH;FMTTYPE=image/jpeg:https://www.arcidiocesisassari.it/wp-content/uploads/2024/11/Eventi-Sito-Web-Duomo.jpg
END:VEVENT
BEGIN:VEVENT
DTSTART;TZID=Europe/Rome:20250418T200000
DTEND;TZID=Europe/Rome:20250418T200000
DTSTAMP:20260422T203912
CREATED:20250414T092445Z
LAST-MODIFIED:20250414T092521Z
UID:30297-1745006400-1745006400@www.arcidiocesisassari.it
SUMMARY:Passaggio della processione del Cristo Morto
DESCRIPTION:
URL:https://www.arcidiocesisassari.it/evento/passaggio-della-processione-del-cristo-morto/
LOCATION:Cattedrale di San Nicola\, Sassari
CATEGORIES:Eventi Diocesani
ATTACH;FMTTYPE=image/jpeg:https://www.arcidiocesisassari.it/wp-content/uploads/2025/04/IMG_8496.jpeg
END:VEVENT
BEGIN:VEVENT
DTSTART;TZID=Europe/Rome:20250418T103000
DTEND;TZID=Europe/Rome:20250418T103000
DTSTAMP:20260422T203912
CREATED:20250414T092137Z
LAST-MODIFIED:20250414T092143Z
UID:30293-1744972200-1744972200@www.arcidiocesisassari.it
SUMMARY:Passaggio dell’Addolorata
DESCRIPTION:
URL:https://www.arcidiocesisassari.it/evento/passaggio-delladdolorata-2/
LOCATION:Cattedrale di San Nicola\, Sassari
CATEGORIES:Eventi Diocesani
ATTACH;FMTTYPE=image/jpeg:https://www.arcidiocesisassari.it/wp-content/uploads/2025/04/IMG_8493.jpeg
END:VEVENT
BEGIN:VEVENT
DTSTART;TZID=Europe/Rome:20250418T173000
DTEND;TZID=Europe/Rome:20250418T173000
DTSTAMP:20260422T203912
CREATED:20250414T092303Z
LAST-MODIFIED:20250414T092312Z
UID:30295-1744997400-1744997400@www.arcidiocesisassari.it
SUMMARY:Azione liturgica della passione del Signore presieduta dall’Arcivescovo
DESCRIPTION:
URL:https://www.arcidiocesisassari.it/evento/azione-liturgica-della-passione-del-signore-presieduta-dallarcivescovo/
LOCATION:Cattedrale di San Nicola\, Sassari
CATEGORIES:Eventi Diocesani
ATTACH;FMTTYPE=image/jpeg:https://www.arcidiocesisassari.it/wp-content/uploads/2025/04/IMG_8496.jpeg
END:VEVENT
END:VCALENDAR