BEGIN:VCALENDAR
VERSION:2.0
PRODID:-//Arcidiocesi di Sassari - Sito ufficiale - ECPv6.15.20//NONSGML v1.0//EN
CALSCALE:GREGORIAN
METHOD:PUBLISH
X-WR-CALNAME:Arcidiocesi di Sassari - Sito ufficiale
X-ORIGINAL-URL:https://www.arcidiocesisassari.it
X-WR-CALDESC:Eventi per Arcidiocesi di Sassari - Sito ufficiale
REFRESH-INTERVAL;VALUE=DURATION:PT1H
X-Robots-Tag:noindex
X-PUBLISHED-TTL:PT1H
BEGIN:VTIMEZONE
TZID:Europe/Rome
BEGIN:DAYLIGHT
TZOFFSETFROM:+0100
TZOFFSETTO:+0200
TZNAME:CEST
DTSTART:20240331T010000
END:DAYLIGHT
BEGIN:STANDARD
TZOFFSETFROM:+0200
TZOFFSETTO:+0100
TZNAME:CET
DTSTART:20241027T010000
END:STANDARD
BEGIN:DAYLIGHT
TZOFFSETFROM:+0100
TZOFFSETTO:+0200
TZNAME:CEST
DTSTART:20250330T010000
END:DAYLIGHT
BEGIN:STANDARD
TZOFFSETFROM:+0200
TZOFFSETTO:+0100
TZNAME:CET
DTSTART:20251026T010000
END:STANDARD
BEGIN:DAYLIGHT
TZOFFSETFROM:+0100
TZOFFSETTO:+0200
TZNAME:CEST
DTSTART:20260329T010000
END:DAYLIGHT
BEGIN:STANDARD
TZOFFSETFROM:+0200
TZOFFSETTO:+0100
TZNAME:CET
DTSTART:20261025T010000
END:STANDARD
END:VTIMEZONE
BEGIN:VEVENT
DTSTART;TZID=Europe/Rome:20250414T163000
DTEND;TZID=Europe/Rome:20250414T163000
DTSTAMP:20260422T203635
CREATED:20250414T064637Z
LAST-MODIFIED:20250414T064852Z
UID:30252-1744648200-1744648200@www.arcidiocesisassari.it
SUMMARY:Pasqua Universitaria. Interventi sul tema “Si può ancora sperare?”
DESCRIPTION:
URL:https://www.arcidiocesisassari.it/evento/pasqua-universitaria-interventi-sul-tema-si-puo-ancora-sperare/
LOCATION:Aula “Giovanni Bo” del Dipartimento Igiene e Patologia Sperimentale\, via P. Manzella 4
CATEGORIES:Eventi Diocesani
ATTACH;FMTTYPE=image/jpeg:https://www.arcidiocesisassari.it/wp-content/uploads/2024/11/Eventi-Sito-Web-Chiesa-Padre-Manzella.jpg
END:VEVENT
BEGIN:VEVENT
DTSTART;TZID=Europe/Rome:20250414T183000
DTEND;TZID=Europe/Rome:20250414T183000
DTSTAMP:20260422T203635
CREATED:20250414T064754Z
LAST-MODIFIED:20250414T064819Z
UID:30255-1744655400-1744655400@www.arcidiocesisassari.it
SUMMARY:Pasqua Universitaria. Celebrazione eucaristica presieduta dall’Arcivescovo
DESCRIPTION:
URL:https://www.arcidiocesisassari.it/evento/pasqua-universitaria-celebrazione-eucaristica-presieduta-dallarcivescovo/
LOCATION:Chiesa SS Sacramento (Padre Manzella)\, Sassari\, 07100\, Italia
CATEGORIES:Eventi Diocesani
ATTACH;FMTTYPE=image/jpeg:https://www.arcidiocesisassari.it/wp-content/uploads/2024/11/Eventi-Sito-Web-Chiesa-Padre-Manzella.jpg
END:VEVENT
END:VCALENDAR