BEGIN:VCALENDAR
VERSION:2.0
PRODID:-//Arcidiocesi di Sassari - Sito ufficiale - ECPv6.15.20//NONSGML v1.0//EN
CALSCALE:GREGORIAN
METHOD:PUBLISH
X-ORIGINAL-URL:https://www.arcidiocesisassari.it
X-WR-CALDESC:Eventi per Arcidiocesi di Sassari - Sito ufficiale
REFRESH-INTERVAL;VALUE=DURATION:PT1H
X-Robots-Tag:noindex
X-PUBLISHED-TTL:PT1H
BEGIN:VTIMEZONE
TZID:Europe/Rome
BEGIN:DAYLIGHT
TZOFFSETFROM:+0100
TZOFFSETTO:+0200
TZNAME:CEST
DTSTART:20240331T010000
END:DAYLIGHT
BEGIN:STANDARD
TZOFFSETFROM:+0200
TZOFFSETTO:+0100
TZNAME:CET
DTSTART:20241027T010000
END:STANDARD
BEGIN:DAYLIGHT
TZOFFSETFROM:+0100
TZOFFSETTO:+0200
TZNAME:CEST
DTSTART:20250330T010000
END:DAYLIGHT
BEGIN:STANDARD
TZOFFSETFROM:+0200
TZOFFSETTO:+0100
TZNAME:CET
DTSTART:20251026T010000
END:STANDARD
BEGIN:DAYLIGHT
TZOFFSETFROM:+0100
TZOFFSETTO:+0200
TZNAME:CEST
DTSTART:20260329T010000
END:DAYLIGHT
BEGIN:STANDARD
TZOFFSETFROM:+0200
TZOFFSETTO:+0100
TZNAME:CET
DTSTART:20261025T010000
END:STANDARD
END:VTIMEZONE
BEGIN:VEVENT
DTSTART;TZID=Europe/Rome:20250406T093000
DTEND;TZID=Europe/Rome:20250406T093000
DTSTAMP:20260422T202310
CREATED:20250405T081152Z
LAST-MODIFIED:20250405T081436Z
UID:30103-1743931800-1743931800@www.arcidiocesisassari.it
SUMMARY:Giornata regionale dei giovani “Pellegrini di Speranza”
DESCRIPTION:
URL:https://www.arcidiocesisassari.it/evento/giornata-regionale-dei-giovani-pellegrini-di-speranza/
LOCATION:Anfiteatro comunale\, Mogoro
CATEGORIES:Eventi Diocesani
ATTACH;FMTTYPE=image/jpeg:https://www.arcidiocesisassari.it/wp-content/uploads/2025/03/69b14983-77b3-4629-888f-fed42854c3d2-1.jpg
END:VEVENT
BEGIN:VEVENT
DTSTART;TZID=Europe/Rome:20250406T100000
DTEND;TZID=Europe/Rome:20250406T100000
DTSTAMP:20260422T202310
CREATED:20250405T075845Z
LAST-MODIFIED:20250405T080630Z
UID:30101-1743933600-1743933600@www.arcidiocesisassari.it
SUMMARY:Scuola per consulenti della persona\, della coppia e della famiglia promosso dalla Fondazione Accademia
DESCRIPTION:
URL:https://www.arcidiocesisassari.it/evento/scuola-per-consulenti-della-persona-della-coppia-e-della-famiglia-promosso-dalla-fondazione-accademia-11/
LOCATION:Centro di Alta Formazione “Padre Manzella”.\, Via Porcellana 29\, Sassari\, SS\, 07100\, Italia
CATEGORIES:Eventi Diocesani
ATTACH;FMTTYPE=image/jpeg:https://www.arcidiocesisassari.it/wp-content/uploads/2024/11/Eventi-Sito-Web-Fondazione.jpg
END:VEVENT
BEGIN:VEVENT
DTSTART;TZID=Europe/Rome:20250406T100000
DTEND;TZID=Europe/Rome:20250406T100000
DTSTAMP:20260422T202310
CREATED:20250405T082425Z
LAST-MODIFIED:20250405T082433Z
UID:30109-1743933600-1743933600@www.arcidiocesisassari.it
SUMMARY:Santa Messa con interprete LIS
DESCRIPTION:
URL:https://www.arcidiocesisassari.it/evento/santa-messa-con-interprete-lis-4/
LOCATION:Parrocchia Mater Ecclesiae
CATEGORIES:Eventi Diocesani
ATTACH;FMTTYPE=image/jpeg:https://www.arcidiocesisassari.it/wp-content/uploads/2024/11/image_123650291-12.jpg
END:VEVENT
BEGIN:VEVENT
DTSTART;TZID=Europe/Rome:20250406T110000
DTEND;TZID=Europe/Rome:20250406T110000
DTSTAMP:20260422T202310
CREATED:20250405T081922Z
LAST-MODIFIED:20250405T081932Z
UID:30106-1743937200-1743937200@www.arcidiocesisassari.it
SUMMARY:Cresime parrocchia Sant’Orsola
DESCRIPTION:
URL:https://www.arcidiocesisassari.it/evento/cresime-parrocchia-santorsola/
LOCATION:Chiesa Sant’Orsola
CATEGORIES:Eventi Diocesani
ATTACH;FMTTYPE=image/jpeg:https://www.arcidiocesisassari.it/wp-content/uploads/2025/04/santOrsola.jpg
END:VEVENT
BEGIN:VEVENT
DTSTART;TZID=Europe/Rome:20250406T170000
DTEND;TZID=Europe/Rome:20250406T170000
DTSTAMP:20260422T202310
CREATED:20250405T082558Z
LAST-MODIFIED:20250405T082606Z
UID:30111-1743958800-1743958800@www.arcidiocesisassari.it
SUMMARY:Celebrazione interparrocchiale dell’amministrazione del sacramento dell’unzione degli infermi
DESCRIPTION:
URL:https://www.arcidiocesisassari.it/evento/celebrazione-interparrocchiale-dellamministrazione-del-sacramento-dellunzione-degli-infermi/
LOCATION:Chiesa Sant’Orsola
CATEGORIES:Eventi Diocesani
ATTACH;FMTTYPE=image/jpeg:https://www.arcidiocesisassari.it/wp-content/uploads/2025/04/santOrsola.jpg
END:VEVENT
END:VCALENDAR