BEGIN:VCALENDAR
VERSION:2.0
PRODID:-//Arcidiocesi di Sassari - Sito ufficiale - ECPv6.15.20//NONSGML v1.0//EN
CALSCALE:GREGORIAN
METHOD:PUBLISH
X-WR-CALNAME:Arcidiocesi di Sassari - Sito ufficiale
X-ORIGINAL-URL:https://www.arcidiocesisassari.it
X-WR-CALDESC:Eventi per Arcidiocesi di Sassari - Sito ufficiale
REFRESH-INTERVAL;VALUE=DURATION:PT1H
X-Robots-Tag:noindex
X-PUBLISHED-TTL:PT1H
BEGIN:VTIMEZONE
TZID:Europe/Rome
BEGIN:DAYLIGHT
TZOFFSETFROM:+0100
TZOFFSETTO:+0200
TZNAME:CEST
DTSTART:20240331T010000
END:DAYLIGHT
BEGIN:STANDARD
TZOFFSETFROM:+0200
TZOFFSETTO:+0100
TZNAME:CET
DTSTART:20241027T010000
END:STANDARD
BEGIN:DAYLIGHT
TZOFFSETFROM:+0100
TZOFFSETTO:+0200
TZNAME:CEST
DTSTART:20250330T010000
END:DAYLIGHT
BEGIN:STANDARD
TZOFFSETFROM:+0200
TZOFFSETTO:+0100
TZNAME:CET
DTSTART:20251026T010000
END:STANDARD
BEGIN:DAYLIGHT
TZOFFSETFROM:+0100
TZOFFSETTO:+0200
TZNAME:CEST
DTSTART:20260329T010000
END:DAYLIGHT
BEGIN:STANDARD
TZOFFSETFROM:+0200
TZOFFSETTO:+0100
TZNAME:CET
DTSTART:20261025T010000
END:STANDARD
END:VTIMEZONE
BEGIN:VEVENT
DTSTART;TZID=Europe/Rome:20250327T093000
DTEND;TZID=Europe/Rome:20250327T093000
DTSTAMP:20260422T222038
CREATED:20250325T225635Z
LAST-MODIFIED:20250325T230021Z
UID:29909-1743067800-1743067800@www.arcidiocesisassari.it
SUMMARY:Ritiro del Clero
DESCRIPTION:
URL:https://www.arcidiocesisassari.it/evento/ritiro-del-clero-4/
LOCATION:Seminario Arcivescovile\, Sassari
CATEGORIES:Eventi Diocesani
ATTACH;FMTTYPE=image/jpeg:https://www.arcidiocesisassari.it/wp-content/uploads/2024/11/Eventi-Sito-Web-Ritiro-del-clero.jpg
END:VEVENT
BEGIN:VEVENT
DTSTART;TZID=Europe/Rome:20250327T170000
DTEND;TZID=Europe/Rome:20250327T170000
DTSTAMP:20260422T222039
CREATED:20250325T230421Z
LAST-MODIFIED:20250325T230548Z
UID:29911-1743094800-1743094800@www.arcidiocesisassari.it
SUMMARY:Corso pre-accademico di formazione musicale
DESCRIPTION:
URL:https://www.arcidiocesisassari.it/evento/corso-pre-accademico-di-formazione-musicale-5/
LOCATION:Centro di Alta Formazione “Padre Manzella”.\, Via Porcellana 29\, Sassari\, SS\, 07100\, Italia
CATEGORIES:Eventi Diocesani
ATTACH;FMTTYPE=image/jpeg:https://www.arcidiocesisassari.it/wp-content/uploads/2024/11/Eventi-Sito-Web-Fondazione.jpg
END:VEVENT
BEGIN:VEVENT
DTSTART;TZID=Europe/Rome:20250327T171500
DTEND;TZID=Europe/Rome:20250327T171500
DTSTAMP:20260422T222039
CREATED:20250325T230757Z
LAST-MODIFIED:20250325T230908Z
UID:29913-1743095700-1743095700@www.arcidiocesisassari.it
SUMMARY:Corso Accademico "Musica e Liturgia"
DESCRIPTION:
URL:https://www.arcidiocesisassari.it/evento/corso-accademico-musica-e-liturgia-17/
LOCATION:Centro di Alta Formazione “Padre Manzella”.\, Via Porcellana 29\, Sassari\, SS\, 07100\, Italia
CATEGORIES:Eventi Diocesani
ATTACH;FMTTYPE=image/jpeg:https://www.arcidiocesisassari.it/wp-content/uploads/2024/11/Eventi-Sito-Web-Fondazione.jpg
END:VEVENT
BEGIN:VEVENT
DTSTART;TZID=Europe/Rome:20250327T180000
DTEND;TZID=Europe/Rome:20250327T180000
DTSTAMP:20260422T222039
CREATED:20250327T075333Z
LAST-MODIFIED:20250327T075342Z
UID:29930-1743098400-1743098400@www.arcidiocesisassari.it
SUMMARY:Incontro interparrocchiale con i Responsabili della comunità dei Mormoni insieme al Direttore dell'Ufficio diocesano per l’ecumenismo e il dialogo interreligioso presso la loro sede.
DESCRIPTION:
URL:https://www.arcidiocesisassari.it/evento/incontro-interparrocchiale-con-i-responsabili-della-comunita-dei-mormoni-insieme-al-direttore-dellufficio-diocesano-per-lecumenismo-e-il-dialogo-interreligioso-presso-la-loro-sede/
CATEGORIES:Eventi Diocesani
ATTACH;FMTTYPE=image/jpeg:https://www.arcidiocesisassari.it/wp-content/uploads/2025/03/29d20c04-cbcf-4330-b419-de6beff26b6f-1.jpg
END:VEVENT
BEGIN:VEVENT
DTSTART;TZID=Europe/Rome:20250327T190000
DTEND;TZID=Europe/Rome:20250327T190000
DTSTAMP:20260422T222039
CREATED:20250327T075536Z
LAST-MODIFIED:20250327T075543Z
UID:29932-1743102000-1743102000@www.arcidiocesisassari.it
SUMMARY:Incontro ecumenico interparrocchiale con la Comunità Evangelica presso la loro sede
DESCRIPTION:
URL:https://www.arcidiocesisassari.it/evento/incontro-ecumenico-interparrocchiale-con-la-comunita-evangelica-presso-la-loro-sede/
CATEGORIES:Eventi Diocesani
ATTACH;FMTTYPE=image/jpeg:https://www.arcidiocesisassari.it/wp-content/uploads/2025/03/29d20c04-cbcf-4330-b419-de6beff26b6f-1.jpg
END:VEVENT
END:VCALENDAR