BEGIN:VCALENDAR
VERSION:2.0
PRODID:-//Arcidiocesi di Sassari - Sito ufficiale - ECPv6.15.20//NONSGML v1.0//EN
CALSCALE:GREGORIAN
METHOD:PUBLISH
X-WR-CALNAME:Arcidiocesi di Sassari - Sito ufficiale
X-ORIGINAL-URL:https://www.arcidiocesisassari.it
X-WR-CALDESC:Eventi per Arcidiocesi di Sassari - Sito ufficiale
REFRESH-INTERVAL;VALUE=DURATION:PT1H
X-Robots-Tag:noindex
X-PUBLISHED-TTL:PT1H
BEGIN:VTIMEZONE
TZID:Europe/Rome
BEGIN:DAYLIGHT
TZOFFSETFROM:+0100
TZOFFSETTO:+0200
TZNAME:CEST
DTSTART:20240331T010000
END:DAYLIGHT
BEGIN:STANDARD
TZOFFSETFROM:+0200
TZOFFSETTO:+0100
TZNAME:CET
DTSTART:20241027T010000
END:STANDARD
BEGIN:DAYLIGHT
TZOFFSETFROM:+0100
TZOFFSETTO:+0200
TZNAME:CEST
DTSTART:20250330T010000
END:DAYLIGHT
BEGIN:STANDARD
TZOFFSETFROM:+0200
TZOFFSETTO:+0100
TZNAME:CET
DTSTART:20251026T010000
END:STANDARD
BEGIN:DAYLIGHT
TZOFFSETFROM:+0100
TZOFFSETTO:+0200
TZNAME:CEST
DTSTART:20260329T010000
END:DAYLIGHT
BEGIN:STANDARD
TZOFFSETFROM:+0200
TZOFFSETTO:+0100
TZNAME:CET
DTSTART:20261025T010000
END:STANDARD
END:VTIMEZONE
BEGIN:VEVENT
DTSTART;TZID=Europe/Rome:20250322T180000
DTEND;TZID=Europe/Rome:20250322T180000
DTSTAMP:20260422T222039
CREATED:20250320T075359Z
LAST-MODIFIED:20250320T075446Z
UID:29803-1742666400-1742666400@www.arcidiocesisassari.it
SUMMARY:Accoglienza dell’Arcivescovo e celebrazione eucaristica
DESCRIPTION:
URL:https://www.arcidiocesisassari.it/evento/accoglienza-dellarcivescovo-e-celebrazione-eucaristica-2/
LOCATION:Parrocchia Cuore Immacolato\, Sassari
CATEGORIES:Eventi Diocesani
ATTACH;FMTTYPE=image/jpeg:https://www.arcidiocesisassari.it/wp-content/uploads/2025/03/IMG_7944.jpeg
END:VEVENT
BEGIN:VEVENT
DTSTART;TZID=Europe/Rome:20250322T190000
DTEND;TZID=Europe/Rome:20250322T190000
DTSTAMP:20260422T222039
CREATED:20250320T080127Z
LAST-MODIFIED:20250320T080135Z
UID:29807-1742670000-1742670000@www.arcidiocesisassari.it
SUMMARY:Assemblea parrocchiale
DESCRIPTION:
URL:https://www.arcidiocesisassari.it/evento/assemblea-parrocchiale-2/
LOCATION:Parrocchia Cuore Immacolato\, Sassari
CATEGORIES:Eventi Diocesani
ATTACH;FMTTYPE=image/jpeg:https://www.arcidiocesisassari.it/wp-content/uploads/2025/03/IMG_7944.jpeg
END:VEVENT
END:VCALENDAR