BEGIN:VCALENDAR
VERSION:2.0
PRODID:-//Arcidiocesi di Sassari - Sito ufficiale - ECPv6.15.20//NONSGML v1.0//EN
CALSCALE:GREGORIAN
METHOD:PUBLISH
X-ORIGINAL-URL:https://www.arcidiocesisassari.it
X-WR-CALDESC:Eventi per Arcidiocesi di Sassari - Sito ufficiale
REFRESH-INTERVAL;VALUE=DURATION:PT1H
X-Robots-Tag:noindex
X-PUBLISHED-TTL:PT1H
BEGIN:VTIMEZONE
TZID:Europe/Rome
BEGIN:DAYLIGHT
TZOFFSETFROM:+0100
TZOFFSETTO:+0200
TZNAME:CEST
DTSTART:20240331T010000
END:DAYLIGHT
BEGIN:STANDARD
TZOFFSETFROM:+0200
TZOFFSETTO:+0100
TZNAME:CET
DTSTART:20241027T010000
END:STANDARD
BEGIN:DAYLIGHT
TZOFFSETFROM:+0100
TZOFFSETTO:+0200
TZNAME:CEST
DTSTART:20250330T010000
END:DAYLIGHT
BEGIN:STANDARD
TZOFFSETFROM:+0200
TZOFFSETTO:+0100
TZNAME:CET
DTSTART:20251026T010000
END:STANDARD
BEGIN:DAYLIGHT
TZOFFSETFROM:+0100
TZOFFSETTO:+0200
TZNAME:CEST
DTSTART:20260329T010000
END:DAYLIGHT
BEGIN:STANDARD
TZOFFSETFROM:+0200
TZOFFSETTO:+0100
TZNAME:CET
DTSTART:20261025T010000
END:STANDARD
END:VTIMEZONE
BEGIN:VEVENT
DTSTART;TZID=Europe/Rome:20250320T093000
DTEND;TZID=Europe/Rome:20250320T093000
DTSTAMP:20260422T222156
CREATED:20250319T073309Z
LAST-MODIFIED:20250319T073316Z
UID:29744-1742463000-1742463000@www.arcidiocesisassari.it
SUMMARY:Celebrazione eucaristica presieduta dall'Arcivescovo in occasione del XV Capitolo Generale delle suore del Getzemani. A seguire visita alle tombe dei Fondatori Padre Manzella e Madre Angela Chiesa SS. Sacramento
DESCRIPTION:
URL:https://www.arcidiocesisassari.it/evento/celebrazione-eucaristica-presieduta-dallarcivescovo-in-occasione-del-xv-capitolo-generale-delle-suore-del-getzemani-a-seguire-visita-alle-tombe-dei-fondatori-padre-manzella-e-madre-angela-chiesa-ss/
LOCATION:Chiesa SS Sacramento (Padre Manzella)\, Sassari\, 07100\, Italia
CATEGORIES:Eventi Diocesani
ATTACH;FMTTYPE=image/jpeg:https://www.arcidiocesisassari.it/wp-content/uploads/2019/01/manzella.jpg
END:VEVENT
BEGIN:VEVENT
DTSTART;TZID=Europe/Rome:20250320T100000
DTEND;TZID=Europe/Rome:20250320T100000
DTSTAMP:20260422T222156
CREATED:20250317T073206Z
LAST-MODIFIED:20250317T073307Z
UID:29668-1742464800-1742464800@www.arcidiocesisassari.it
SUMMARY:Incontro del clero per foranie
DESCRIPTION:
URL:https://www.arcidiocesisassari.it/evento/incontro-del-clero-per-foranie-4/
CATEGORIES:Eventi Diocesani
ATTACH;FMTTYPE=image/jpeg:https://www.arcidiocesisassari.it/wp-content/uploads/2024/11/Eventi-Sito-Web-Ritiro-del-clero.jpg
END:VEVENT
END:VCALENDAR