BEGIN:VCALENDAR
VERSION:2.0
PRODID:-//Arcidiocesi di Sassari - Sito ufficiale - ECPv6.15.20//NONSGML v1.0//EN
CALSCALE:GREGORIAN
METHOD:PUBLISH
X-WR-CALNAME:Arcidiocesi di Sassari - Sito ufficiale
X-ORIGINAL-URL:https://www.arcidiocesisassari.it
X-WR-CALDESC:Eventi per Arcidiocesi di Sassari - Sito ufficiale
REFRESH-INTERVAL;VALUE=DURATION:PT1H
X-Robots-Tag:noindex
X-PUBLISHED-TTL:PT1H
BEGIN:VTIMEZONE
TZID:Europe/Rome
BEGIN:DAYLIGHT
TZOFFSETFROM:+0100
TZOFFSETTO:+0200
TZNAME:CEST
DTSTART:20240331T010000
END:DAYLIGHT
BEGIN:STANDARD
TZOFFSETFROM:+0200
TZOFFSETTO:+0100
TZNAME:CET
DTSTART:20241027T010000
END:STANDARD
BEGIN:DAYLIGHT
TZOFFSETFROM:+0100
TZOFFSETTO:+0200
TZNAME:CEST
DTSTART:20250330T010000
END:DAYLIGHT
BEGIN:STANDARD
TZOFFSETFROM:+0200
TZOFFSETTO:+0100
TZNAME:CET
DTSTART:20251026T010000
END:STANDARD
BEGIN:DAYLIGHT
TZOFFSETFROM:+0100
TZOFFSETTO:+0200
TZNAME:CEST
DTSTART:20260329T010000
END:DAYLIGHT
BEGIN:STANDARD
TZOFFSETFROM:+0200
TZOFFSETTO:+0100
TZNAME:CET
DTSTART:20261025T010000
END:STANDARD
END:VTIMEZONE
BEGIN:VEVENT
DTSTART;TZID=Europe/Rome:20250312T093000
DTEND;TZID=Europe/Rome:20250312T093000
DTSTAMP:20260422T222040
CREATED:20250311T074529Z
LAST-MODIFIED:20250311T074549Z
UID:29551-1741771800-1741771800@www.arcidiocesisassari.it
SUMMARY:Accompagnamento per i Responsabili della Curia\, gli Organismi e i servizi Pastorali diocesani
DESCRIPTION:
URL:https://www.arcidiocesisassari.it/evento/accompagnamento-per-i-responsabili-della-curia-gli-organismi-e-i-servizi-pastorali-diocesani-2/
LOCATION:Aula Monsignor Isgrò – Arcivescovado
CATEGORIES:Eventi Diocesani
ATTACH;FMTTYPE=image/jpeg:https://www.arcidiocesisassari.it/wp-content/uploads/2025/01/457562ea-3902-4944-bd44-970459833683-1.jpg
END:VEVENT
BEGIN:VEVENT
DTSTART;TZID=Europe/Rome:20250312T180000
DTEND;TZID=Europe/Rome:20250312T180000
DTSTAMP:20260422T222040
CREATED:20250311T075059Z
LAST-MODIFIED:20250311T075107Z
UID:29555-1741802400-1741802400@www.arcidiocesisassari.it
SUMMARY:Incontro di pastorale universitaria "Mi prendo cura di te"
DESCRIPTION:
URL:https://www.arcidiocesisassari.it/evento/incontro-di-pastorale-universitaria-mi-prendo-cura-di-te/
LOCATION:Dipartimento di Medicina\, Sassari
CATEGORIES:Eventi Diocesani
ATTACH;FMTTYPE=image/png:https://www.arcidiocesisassari.it/wp-content/uploads/2025/03/POST-SOCIAL-INCONTRO-CULTURALE-UNIV-12-MARZO-2025.png
END:VEVENT
END:VCALENDAR