BEGIN:VCALENDAR
VERSION:2.0
PRODID:-//Arcidiocesi di Sassari - Sito ufficiale - ECPv6.15.20//NONSGML v1.0//EN
CALSCALE:GREGORIAN
METHOD:PUBLISH
X-WR-CALNAME:Arcidiocesi di Sassari - Sito ufficiale
X-ORIGINAL-URL:https://www.arcidiocesisassari.it
X-WR-CALDESC:Eventi per Arcidiocesi di Sassari - Sito ufficiale
REFRESH-INTERVAL;VALUE=DURATION:PT1H
X-Robots-Tag:noindex
X-PUBLISHED-TTL:PT1H
BEGIN:VTIMEZONE
TZID:Europe/Rome
BEGIN:DAYLIGHT
TZOFFSETFROM:+0100
TZOFFSETTO:+0200
TZNAME:CEST
DTSTART:20240331T010000
END:DAYLIGHT
BEGIN:STANDARD
TZOFFSETFROM:+0200
TZOFFSETTO:+0100
TZNAME:CET
DTSTART:20241027T010000
END:STANDARD
BEGIN:DAYLIGHT
TZOFFSETFROM:+0100
TZOFFSETTO:+0200
TZNAME:CEST
DTSTART:20250330T010000
END:DAYLIGHT
BEGIN:STANDARD
TZOFFSETFROM:+0200
TZOFFSETTO:+0100
TZNAME:CET
DTSTART:20251026T010000
END:STANDARD
BEGIN:DAYLIGHT
TZOFFSETFROM:+0100
TZOFFSETTO:+0200
TZNAME:CEST
DTSTART:20260329T010000
END:DAYLIGHT
BEGIN:STANDARD
TZOFFSETFROM:+0200
TZOFFSETTO:+0100
TZNAME:CET
DTSTART:20261025T010000
END:STANDARD
END:VTIMEZONE
BEGIN:VEVENT
DTSTART;TZID=Europe/Rome:20250306T103000
DTEND;TZID=Europe/Rome:20250306T103000
DTSTAMP:20260422T221933
CREATED:20250305T075936Z
LAST-MODIFIED:20250305T080054Z
UID:29416-1741257000-1741257000@www.arcidiocesisassari.it
SUMMARY:Visita alla Casa di riposo “Matida”
DESCRIPTION:
URL:https://www.arcidiocesisassari.it/evento/visita-alla-casa-di-riposo-matida/
LOCATION:Casa di riposo Matida
CATEGORIES:Eventi Diocesani
ATTACH;FMTTYPE=image/jpeg:https://www.arcidiocesisassari.it/wp-content/uploads/2025/02/sanpaolo.jpeg
END:VEVENT
BEGIN:VEVENT
DTSTART;TZID=Europe/Rome:20250306T113000
DTEND;TZID=Europe/Rome:20250306T113000
DTSTAMP:20260422T221933
CREATED:20250305T080424Z
LAST-MODIFIED:20250305T080433Z
UID:29419-1741260600-1741260600@www.arcidiocesisassari.it
SUMMARY:Visita al Ministero dell’Economia e delle Finanze - Ragioneria Territoriale dello Stato di Sassari/Olbia - Tempio
DESCRIPTION:
URL:https://www.arcidiocesisassari.it/evento/visita-al-ministero-delleconomia-e-delle-finanze-ragioneria-territoriale-dello-stato-di-sassari-olbia-tempio/
LOCATION:Ministero dell’Economia e delle Finanze – Ragioneria Territoriale dello Stato di Sassari/Olbia – Tempio
CATEGORIES:Eventi Diocesani
ATTACH;FMTTYPE=image/jpeg:https://www.arcidiocesisassari.it/wp-content/uploads/2025/02/cristo-redentore.jpeg
END:VEVENT
BEGIN:VEVENT
DTSTART;TZID=Europe/Rome:20250306T151500
DTEND;TZID=Europe/Rome:20250306T151500
DTSTAMP:20260422T221933
CREATED:20250305T080638Z
LAST-MODIFIED:20250305T080644Z
UID:29422-1741274100-1741274100@www.arcidiocesisassari.it
SUMMARY:Corso Accademico "Musica e Liturgia"
DESCRIPTION:
URL:https://www.arcidiocesisassari.it/evento/corso-accademico-musica-e-liturgia-10/
LOCATION:Centro di Alta Formazione “Padre Manzella”.\, Via Porcellana 29\, Sassari\, SS\, 07100\, Italia
CATEGORIES:Eventi Diocesani
ATTACH;FMTTYPE=image/jpeg:https://www.arcidiocesisassari.it/wp-content/uploads/2024/11/Eventi-Sito-Web-Fondazione.jpg
END:VEVENT
BEGIN:VEVENT
DTSTART;TZID=Europe/Rome:20250306T153000
DTEND;TZID=Europe/Rome:20250306T153000
DTSTAMP:20260422T221933
CREATED:20250305T080803Z
LAST-MODIFIED:20250305T080810Z
UID:29424-1741275000-1741275000@www.arcidiocesisassari.it
SUMMARY:Corso LIS
DESCRIPTION:
URL:https://www.arcidiocesisassari.it/evento/corso-lis-12/
LOCATION:Centro di Alta Formazione “Padre Manzella”.\, Via Porcellana 29\, Sassari\, SS\, 07100\, Italia
CATEGORIES:Eventi Diocesani
ATTACH;FMTTYPE=image/jpeg:https://www.arcidiocesisassari.it/wp-content/uploads/2024/11/Eventi-Sito-Web-Fondazione.jpg
END:VEVENT
BEGIN:VEVENT
DTSTART;TZID=Europe/Rome:20250306T170000
DTEND;TZID=Europe/Rome:20250306T170000
DTSTAMP:20260422T221933
CREATED:20250305T081424Z
LAST-MODIFIED:20250305T081431Z
UID:29426-1741280400-1741280400@www.arcidiocesisassari.it
SUMMARY:Corso pre-accademico di formazione musicale promosso dalla Fondazione Accademia
DESCRIPTION:
URL:https://www.arcidiocesisassari.it/evento/corso-pre-accademico-di-formazione-musicale-promosso-dalla-fondazione-accademia-16/
LOCATION:Centro di Alta Formazione “Padre Manzella”.\, Via Porcellana 29\, Sassari\, SS\, 07100\, Italia
CATEGORIES:Eventi Diocesani
ATTACH;FMTTYPE=image/jpeg:https://www.arcidiocesisassari.it/wp-content/uploads/2024/11/Eventi-Sito-Web-Fondazione.jpg
END:VEVENT
BEGIN:VEVENT
DTSTART;TZID=Europe/Rome:20250306T180000
DTEND;TZID=Europe/Rome:20250306T180000
DTSTAMP:20260422T221933
CREATED:20250305T081545Z
LAST-MODIFIED:20250305T081551Z
UID:29428-1741284000-1741284000@www.arcidiocesisassari.it
SUMMARY:Celebrazione eucaristica
DESCRIPTION:
URL:https://www.arcidiocesisassari.it/evento/celebrazione-eucaristica-2/
LOCATION:Parrocchia Cristo Redentore
CATEGORIES:Eventi Diocesani
ATTACH;FMTTYPE=image/jpeg:https://www.arcidiocesisassari.it/wp-content/uploads/2025/02/cristo-redentore.jpeg
END:VEVENT
BEGIN:VEVENT
DTSTART;TZID=Europe/Rome:20250306T190000
DTEND;TZID=Europe/Rome:20250306T190000
DTSTAMP:20260422T221933
CREATED:20250305T081639Z
LAST-MODIFIED:20250305T081646Z
UID:29430-1741287600-1741287600@www.arcidiocesisassari.it
SUMMARY:Assemblea parrocchiale
DESCRIPTION:
URL:https://www.arcidiocesisassari.it/evento/assemblea-parrocchiale/
LOCATION:Parrocchia Cristo Redentore
CATEGORIES:Eventi Diocesani
ATTACH;FMTTYPE=image/jpeg:https://www.arcidiocesisassari.it/wp-content/uploads/2025/02/cristo-redentore.jpeg
END:VEVENT
END:VCALENDAR