BEGIN:VCALENDAR
VERSION:2.0
PRODID:-//Arcidiocesi di Sassari - Sito ufficiale - ECPv6.15.20//NONSGML v1.0//EN
CALSCALE:GREGORIAN
METHOD:PUBLISH
X-ORIGINAL-URL:https://www.arcidiocesisassari.it
X-WR-CALDESC:Eventi per Arcidiocesi di Sassari - Sito ufficiale
REFRESH-INTERVAL;VALUE=DURATION:PT1H
X-Robots-Tag:noindex
X-PUBLISHED-TTL:PT1H
BEGIN:VTIMEZONE
TZID:Europe/Rome
BEGIN:DAYLIGHT
TZOFFSETFROM:+0100
TZOFFSETTO:+0200
TZNAME:CEST
DTSTART:20240331T010000
END:DAYLIGHT
BEGIN:STANDARD
TZOFFSETFROM:+0200
TZOFFSETTO:+0100
TZNAME:CET
DTSTART:20241027T010000
END:STANDARD
BEGIN:DAYLIGHT
TZOFFSETFROM:+0100
TZOFFSETTO:+0200
TZNAME:CEST
DTSTART:20250330T010000
END:DAYLIGHT
BEGIN:STANDARD
TZOFFSETFROM:+0200
TZOFFSETTO:+0100
TZNAME:CET
DTSTART:20251026T010000
END:STANDARD
BEGIN:DAYLIGHT
TZOFFSETFROM:+0100
TZOFFSETTO:+0200
TZNAME:CEST
DTSTART:20260329T010000
END:DAYLIGHT
BEGIN:STANDARD
TZOFFSETFROM:+0200
TZOFFSETTO:+0100
TZNAME:CET
DTSTART:20261025T010000
END:STANDARD
END:VTIMEZONE
BEGIN:VEVENT
DTSTART;TZID=Europe/Rome:20250220T170000
DTEND;TZID=Europe/Rome:20250220T170000
DTSTAMP:20260423T014834
CREATED:20250220T073347Z
LAST-MODIFIED:20250220T073559Z
UID:29136-1740070800-1740070800@www.arcidiocesisassari.it
SUMMARY:Corso pre-accademico di formazione musicale promosso dalla Fondazione Accademia
DESCRIPTION:
URL:https://www.arcidiocesisassari.it/evento/corso-pre-accademico-di-formazione-musicale-promosso-dalla-fondazione-accademia-10/
LOCATION:Centro di Alta Formazione “Padre Manzella”.\, Via Porcellana 29\, Sassari\, SS\, 07100\, Italia
CATEGORIES:Eventi Diocesani
ATTACH;FMTTYPE=image/jpeg:https://www.arcidiocesisassari.it/wp-content/uploads/2024/11/Eventi-Sito-Web-Fondazione.jpg
END:VEVENT
BEGIN:VEVENT
DTSTART;TZID=Europe/Rome:20250220T190000
DTEND;TZID=Europe/Rome:20250220T190000
DTSTAMP:20260423T014834
CREATED:20250220T073731Z
LAST-MODIFIED:20250220T074324Z
UID:29138-1740078000-1740078000@www.arcidiocesisassari.it
SUMMARY:Incontro del Vescovo Gian Franco e i Responsabili di Curia e degli Uffici e Servizi Pastorali diocesani con i membri dei Consigli Pastorali e per gli affari economici delle parrocchie della Sottozona cittadina Cappuccini – Monserrato
DESCRIPTION:
URL:https://www.arcidiocesisassari.it/evento/incontro-del-vescovo-gian-franco-e-i-responsabili-di-curia-e-degli-uffici-e-servizi-pastorali-diocesani-con-i-membri-dei-consigli-pastorali-e-per-gli-affari-economici-delle-parrocchie-della-sottozona/
LOCATION:Parrocchia San Vincenzo\, Sassari
CATEGORIES:Eventi Diocesani
ATTACH;FMTTYPE=image/jpeg:https://www.arcidiocesisassari.it/wp-content/uploads/2025/02/IMG_7331.jpeg
END:VEVENT
END:VCALENDAR