BEGIN:VCALENDAR
VERSION:2.0
PRODID:-//Arcidiocesi di Sassari - Sito ufficiale - ECPv6.15.20//NONSGML v1.0//EN
CALSCALE:GREGORIAN
METHOD:PUBLISH
X-ORIGINAL-URL:https://www.arcidiocesisassari.it
X-WR-CALDESC:Eventi per Arcidiocesi di Sassari - Sito ufficiale
REFRESH-INTERVAL;VALUE=DURATION:PT1H
X-Robots-Tag:noindex
X-PUBLISHED-TTL:PT1H
BEGIN:VTIMEZONE
TZID:Europe/Rome
BEGIN:DAYLIGHT
TZOFFSETFROM:+0100
TZOFFSETTO:+0200
TZNAME:CEST
DTSTART:20240331T010000
END:DAYLIGHT
BEGIN:STANDARD
TZOFFSETFROM:+0200
TZOFFSETTO:+0100
TZNAME:CET
DTSTART:20241027T010000
END:STANDARD
BEGIN:DAYLIGHT
TZOFFSETFROM:+0100
TZOFFSETTO:+0200
TZNAME:CEST
DTSTART:20250330T010000
END:DAYLIGHT
BEGIN:STANDARD
TZOFFSETFROM:+0200
TZOFFSETTO:+0100
TZNAME:CET
DTSTART:20251026T010000
END:STANDARD
BEGIN:DAYLIGHT
TZOFFSETFROM:+0100
TZOFFSETTO:+0200
TZNAME:CEST
DTSTART:20260329T010000
END:DAYLIGHT
BEGIN:STANDARD
TZOFFSETFROM:+0200
TZOFFSETTO:+0100
TZNAME:CET
DTSTART:20261025T010000
END:STANDARD
END:VTIMEZONE
BEGIN:VEVENT
DTSTART;TZID=Europe/Rome:20250215T093000
DTEND;TZID=Europe/Rome:20250215T093000
DTSTAMP:20260423T000820
CREATED:20250213T074716Z
LAST-MODIFIED:20250213T074731Z
UID:29008-1739611800-1739611800@www.arcidiocesisassari.it
SUMMARY:Ritiro mensile Usmi
DESCRIPTION:
URL:https://www.arcidiocesisassari.it/evento/ritiro-mensile-usmi-3/
LOCATION:Casa Santa Luisa\, Sassari
CATEGORIES:Eventi Diocesani
ATTACH;FMTTYPE=image/jpeg:https://www.arcidiocesisassari.it/wp-content/uploads/2024/12/Casa-santa-Luisa.jpg
END:VEVENT
BEGIN:VEVENT
DTSTART;TZID=Europe/Rome:20250215T174500
DTEND;TZID=Europe/Rome:20250215T174500
DTSTAMP:20260423T000820
CREATED:20250213T080439Z
LAST-MODIFIED:20250213T080446Z
UID:29014-1739641500-1739641500@www.arcidiocesisassari.it
SUMMARY:Inizio visita pastorale San Giovanni Bosco\, San Vincenzo\, San Paolo e Cristo Redentore. Accoglienza dell’Arcivescovo e celebrazione eucaristica interparrocchiale d’apertura.  A seguire momento conviviale.
DESCRIPTION:
URL:https://www.arcidiocesisassari.it/evento/inizio-visita-pastorale-san-giovanni-bosco-san-vincenzo-san-paolo-e-cristo-redentore-accoglienza-dellarcivescovo-e-celebrazione-eucaristica-interparrocchiale-dapertura-a-seguire/
LOCATION:Parrocchia San Vincenzo\, Sassari
CATEGORIES:Eventi Diocesani
ATTACH;FMTTYPE=image/jpeg:https://www.arcidiocesisassari.it/wp-content/uploads/2025/02/IMG_7331.jpeg
END:VEVENT
END:VCALENDAR