BEGIN:VCALENDAR
VERSION:2.0
PRODID:-//Arcidiocesi di Sassari - Sito ufficiale - ECPv6.15.20//NONSGML v1.0//EN
CALSCALE:GREGORIAN
METHOD:PUBLISH
X-ORIGINAL-URL:https://www.arcidiocesisassari.it
X-WR-CALDESC:Eventi per Arcidiocesi di Sassari - Sito ufficiale
REFRESH-INTERVAL;VALUE=DURATION:PT1H
X-Robots-Tag:noindex
X-PUBLISHED-TTL:PT1H
BEGIN:VTIMEZONE
TZID:Europe/Rome
BEGIN:DAYLIGHT
TZOFFSETFROM:+0100
TZOFFSETTO:+0200
TZNAME:CEST
DTSTART:20240331T010000
END:DAYLIGHT
BEGIN:STANDARD
TZOFFSETFROM:+0200
TZOFFSETTO:+0100
TZNAME:CET
DTSTART:20241027T010000
END:STANDARD
BEGIN:DAYLIGHT
TZOFFSETFROM:+0100
TZOFFSETTO:+0200
TZNAME:CEST
DTSTART:20250330T010000
END:DAYLIGHT
BEGIN:STANDARD
TZOFFSETFROM:+0200
TZOFFSETTO:+0100
TZNAME:CET
DTSTART:20251026T010000
END:STANDARD
BEGIN:DAYLIGHT
TZOFFSETFROM:+0100
TZOFFSETTO:+0200
TZNAME:CEST
DTSTART:20260329T010000
END:DAYLIGHT
BEGIN:STANDARD
TZOFFSETFROM:+0200
TZOFFSETTO:+0100
TZNAME:CET
DTSTART:20261025T010000
END:STANDARD
END:VTIMEZONE
BEGIN:VEVENT
DTSTART;TZID=Europe/Rome:20250208T160000
DTEND;TZID=Europe/Rome:20250208T160000
DTSTAMP:20260423T002414
CREATED:20250204T074725Z
LAST-MODIFIED:20250204T074731Z
UID:28937-1739030400-1739030400@www.arcidiocesisassari.it
SUMMARY:47a Giornata Nazionale per la Vita - "Accogliere la vita in tutte le sue stagioni\, speranza per il mondo"
DESCRIPTION:
URL:https://www.arcidiocesisassari.it/evento/47a-giornata-nazionale-per-la-vita-accogliere-la-vita-in-tutte-le-sue-stagioni-speranza-per-il-mondo/
LOCATION:Auditorium Giovanni Paolo II\, Sassari
CATEGORIES:Eventi Diocesani
ATTACH;FMTTYPE=image/png:https://www.arcidiocesisassari.it/wp-content/uploads/2025/02/POST-SOCIAL-GIORNATA-PER-LA-VITA-2025.png
END:VEVENT
END:VCALENDAR