BEGIN:VCALENDAR
VERSION:2.0
PRODID:-//Arcidiocesi di Sassari - Sito ufficiale - ECPv6.15.20//NONSGML v1.0//EN
CALSCALE:GREGORIAN
METHOD:PUBLISH
X-WR-CALNAME:Arcidiocesi di Sassari - Sito ufficiale
X-ORIGINAL-URL:https://www.arcidiocesisassari.it
X-WR-CALDESC:Eventi per Arcidiocesi di Sassari - Sito ufficiale
REFRESH-INTERVAL;VALUE=DURATION:PT1H
X-Robots-Tag:noindex
X-PUBLISHED-TTL:PT1H
BEGIN:VTIMEZONE
TZID:Europe/Rome
BEGIN:DAYLIGHT
TZOFFSETFROM:+0100
TZOFFSETTO:+0200
TZNAME:CEST
DTSTART:20240331T010000
END:DAYLIGHT
BEGIN:STANDARD
TZOFFSETFROM:+0200
TZOFFSETTO:+0100
TZNAME:CET
DTSTART:20241027T010000
END:STANDARD
BEGIN:DAYLIGHT
TZOFFSETFROM:+0100
TZOFFSETTO:+0200
TZNAME:CEST
DTSTART:20250330T010000
END:DAYLIGHT
BEGIN:STANDARD
TZOFFSETFROM:+0200
TZOFFSETTO:+0100
TZNAME:CET
DTSTART:20251026T010000
END:STANDARD
BEGIN:DAYLIGHT
TZOFFSETFROM:+0100
TZOFFSETTO:+0200
TZNAME:CEST
DTSTART:20260329T010000
END:DAYLIGHT
BEGIN:STANDARD
TZOFFSETFROM:+0200
TZOFFSETTO:+0100
TZNAME:CET
DTSTART:20261025T010000
END:STANDARD
END:VTIMEZONE
BEGIN:VEVENT
DTSTART;TZID=Europe/Rome:20250125T090000
DTEND;TZID=Europe/Rome:20250125T090000
DTSTAMP:20260423T015427
CREATED:20250122T203446Z
LAST-MODIFIED:20250122T203452Z
UID:28657-1737795600-1737795600@www.arcidiocesisassari.it
SUMMARY:L'arte del comunicare
DESCRIPTION:
URL:https://www.arcidiocesisassari.it/evento/larte-del-comunicare-2/
CATEGORIES:Eventi Diocesani
ATTACH;FMTTYPE=image/jpeg:https://www.arcidiocesisassari.it/wp-content/uploads/2024/11/Eventi-Sito-Web-Fondazione.jpg
END:VEVENT
BEGIN:VEVENT
DTSTART;TZID=Europe/Rome:20250125T100000
DTEND;TZID=Europe/Rome:20250125T170000
DTSTAMP:20260423T015427
CREATED:20250122T203331Z
LAST-MODIFIED:20250122T203339Z
UID:28655-1737799200-1737824400@www.arcidiocesisassari.it
SUMMARY:Corso Accademico "Musica e Liturgia"
DESCRIPTION:
URL:https://www.arcidiocesisassari.it/evento/corso-accademico-musica-e-liturgia-3/
LOCATION:Centro di Alta Formazione “Padre Manzella”.\, Via Porcellana 29\, Sassari\, SS\, 07100\, Italia
CATEGORIES:Eventi Diocesani
ATTACH;FMTTYPE=image/jpeg:https://www.arcidiocesisassari.it/wp-content/uploads/2024/11/Eventi-Sito-Web-Fondazione.jpg
END:VEVENT
BEGIN:VEVENT
DTSTART;TZID=Europe/Rome:20250125T103000
DTEND;TZID=Europe/Rome:20250125T103000
DTSTAMP:20260423T015427
CREATED:20250122T203205Z
LAST-MODIFIED:20250122T203210Z
UID:28653-1737801000-1737801000@www.arcidiocesisassari.it
SUMMARY:Cresime parrocchia Sacra Famiglia
DESCRIPTION:
URL:https://www.arcidiocesisassari.it/evento/cresime-parrocchia-sacra-famiglia/
LOCATION:Parrocchia Sacra Famiglia
CATEGORIES:Eventi Diocesani
ATTACH;FMTTYPE=image/jpeg:https://www.arcidiocesisassari.it/wp-content/uploads/2025/01/445d8374-1d72-4ebc-8cb0-1e4eaec218dc-1.jpg
END:VEVENT
BEGIN:VEVENT
DTSTART;TZID=Europe/Rome:20250125T180000
DTEND;TZID=Europe/Rome:20250125T180000
DTSTAMP:20260423T015427
CREATED:20250122T203616Z
LAST-MODIFIED:20250122T203624Z
UID:28659-1737828000-1737828000@www.arcidiocesisassari.it
SUMMARY:Chiusura Settimana di preghiera per l’unità dei cristiani. Celebrazione eucaristica presieduta dal Vescovo Gian Franco
DESCRIPTION:
URL:https://www.arcidiocesisassari.it/evento/chiusura-settimana-di-preghiera-per-lunita-dei-cristiani-celebrazione-eucaristica-presieduta-dal-vescovo-gian-franco/
LOCATION:Parrocchia Sacra Famiglia
CATEGORIES:Eventi Diocesani
ATTACH;FMTTYPE=image/png:https://www.arcidiocesisassari.it/wp-content/uploads/2025/01/POST-SOCIAL-SPUC-2025.png
END:VEVENT
BEGIN:VEVENT
DTSTART;TZID=Europe/Rome:20250125T190000
DTEND;TZID=Europe/Rome:20250125T190000
DTSTAMP:20260423T015427
CREATED:20250122T204127Z
LAST-MODIFIED:20250122T204133Z
UID:28661-1737831600-1737831600@www.arcidiocesisassari.it
SUMMARY:Narrazione dei processi pastorali sinodali della parrocchia Sacra Famiglia
DESCRIPTION:
URL:https://www.arcidiocesisassari.it/evento/narrazione-dei-processi-pastorali-sinodali-della-parrocchia-sacra-famiglia/
LOCATION:Parrocchia Sacra Famiglia
CATEGORIES:Eventi Diocesani
ATTACH;FMTTYPE=image/jpeg:https://www.arcidiocesisassari.it/wp-content/uploads/2025/01/445d8374-1d72-4ebc-8cb0-1e4eaec218dc-1.jpg
END:VEVENT
END:VCALENDAR