BEGIN:VCALENDAR
VERSION:2.0
PRODID:-//Arcidiocesi di Sassari - Sito ufficiale - ECPv6.15.20//NONSGML v1.0//EN
CALSCALE:GREGORIAN
METHOD:PUBLISH
X-WR-CALNAME:Arcidiocesi di Sassari - Sito ufficiale
X-ORIGINAL-URL:https://www.arcidiocesisassari.it
X-WR-CALDESC:Eventi per Arcidiocesi di Sassari - Sito ufficiale
REFRESH-INTERVAL;VALUE=DURATION:PT1H
X-Robots-Tag:noindex
X-PUBLISHED-TTL:PT1H
BEGIN:VTIMEZONE
TZID:Europe/Rome
BEGIN:DAYLIGHT
TZOFFSETFROM:+0100
TZOFFSETTO:+0200
TZNAME:CEST
DTSTART:20240331T010000
END:DAYLIGHT
BEGIN:STANDARD
TZOFFSETFROM:+0200
TZOFFSETTO:+0100
TZNAME:CET
DTSTART:20241027T010000
END:STANDARD
BEGIN:DAYLIGHT
TZOFFSETFROM:+0100
TZOFFSETTO:+0200
TZNAME:CEST
DTSTART:20250330T010000
END:DAYLIGHT
BEGIN:STANDARD
TZOFFSETFROM:+0200
TZOFFSETTO:+0100
TZNAME:CET
DTSTART:20251026T010000
END:STANDARD
BEGIN:DAYLIGHT
TZOFFSETFROM:+0100
TZOFFSETTO:+0200
TZNAME:CEST
DTSTART:20260329T010000
END:DAYLIGHT
BEGIN:STANDARD
TZOFFSETFROM:+0200
TZOFFSETTO:+0100
TZNAME:CET
DTSTART:20261025T010000
END:STANDARD
END:VTIMEZONE
BEGIN:VEVENT
DTSTART;TZID=Europe/Rome:20250122T110000
DTEND;TZID=Europe/Rome:20250122T110000
DTSTAMP:20260423T015812
CREATED:20250118T092416Z
LAST-MODIFIED:20250118T092426Z
UID:28554-1737543600-1737543600@www.arcidiocesisassari.it
SUMMARY:Celebrazione eucaristica presieduta dall’Arcivescovo in onore di San Sebastiano\, Patrono della Polizia locale
DESCRIPTION:
URL:https://www.arcidiocesisassari.it/evento/celebrazione-eucaristica-presieduta-dallarcivescovo-in-onore-di-san-sebastiano-patrono-della-polizia-locale/
LOCATION:San Pietro in Silki\, Sassari
CATEGORIES:Eventi Diocesani
ATTACH;FMTTYPE=image/jpeg:https://www.arcidiocesisassari.it/wp-content/uploads/2024/11/image_123650291-13.jpg
END:VEVENT
BEGIN:VEVENT
DTSTART;TZID=Europe/Rome:20250122T153000
DTEND;TZID=Europe/Rome:20250122T153000
DTSTAMP:20260423T015812
CREATED:20250120T082823Z
LAST-MODIFIED:20250120T082832Z
UID:28563-1737559800-1737559800@www.arcidiocesisassari.it
SUMMARY:Corso LIS
DESCRIPTION:
URL:https://www.arcidiocesisassari.it/evento/corso-lis-7/
LOCATION:Centro di Alta Formazione “Padre Manzella”.\, Via Porcellana 29\, Sassari\, SS\, 07100\, Italia
CATEGORIES:Eventi Diocesani
ATTACH;FMTTYPE=image/jpeg:https://www.arcidiocesisassari.it/wp-content/uploads/2024/11/Eventi-Sito-Web-Fondazione.jpg
END:VEVENT
BEGIN:VEVENT
DTSTART;TZID=Europe/Rome:20250122T190000
DTEND;TZID=Europe/Rome:20250122T190000
DTSTAMP:20260423T015812
CREATED:20250119T180019Z
LAST-MODIFIED:20250119T180027Z
UID:28557-1737572400-1737572400@www.arcidiocesisassari.it
SUMMARY:Il mistero sorprendente della vita - Incontro per Universitari
DESCRIPTION:
URL:https://www.arcidiocesisassari.it/evento/il-mistero-sorprendente-della-vita-incontro-per-universitari/
LOCATION:Istituto Pie Sorelle Educatrici
CATEGORIES:Eventi Diocesani,Fondazione Accademia Casa di Popoli, Culture e Religioni
ATTACH;FMTTYPE=image/jpeg:https://www.arcidiocesisassari.it/wp-content/uploads/2025/01/PHOTO-2025-01-19-17-54-02.jpg
END:VEVENT
BEGIN:VEVENT
DTSTART;TZID=Europe/Rome:20250122T190000
DTEND;TZID=Europe/Rome:20250122T190000
DTSTAMP:20260423T015812
CREATED:20250120T082629Z
LAST-MODIFIED:20250120T082640Z
UID:28561-1737572400-1737572400@www.arcidiocesisassari.it
SUMMARY:Lectio Divina con il Vescovo Gian Franco. Incontro diocesano in preparazione alla VI° Domenica della Parola di Dio
DESCRIPTION:
URL:https://www.arcidiocesisassari.it/evento/lectio-divina-con-il-vescovo-gian-franco-incontro-diocesano-in-preparazione-alla-vi-domenica-della-parola-di-dio/
LOCATION:Parrocchia Sacra Famiglia\, Sassari
CATEGORIES:Eventi Diocesani
ATTACH;FMTTYPE=image/png:https://www.arcidiocesisassari.it/wp-content/uploads/2025/01/POST-SOCIAL-DOMENICA-DELLA-PAROLA-2025.png
END:VEVENT
END:VCALENDAR