BEGIN:VCALENDAR
VERSION:2.0
PRODID:-//Arcidiocesi di Sassari - Sito ufficiale - ECPv6.15.20//NONSGML v1.0//EN
CALSCALE:GREGORIAN
METHOD:PUBLISH
X-ORIGINAL-URL:https://www.arcidiocesisassari.it
X-WR-CALDESC:Eventi per Arcidiocesi di Sassari - Sito ufficiale
REFRESH-INTERVAL;VALUE=DURATION:PT1H
X-Robots-Tag:noindex
X-PUBLISHED-TTL:PT1H
BEGIN:VTIMEZONE
TZID:Europe/Rome
BEGIN:DAYLIGHT
TZOFFSETFROM:+0100
TZOFFSETTO:+0200
TZNAME:CEST
DTSTART:20240331T010000
END:DAYLIGHT
BEGIN:STANDARD
TZOFFSETFROM:+0200
TZOFFSETTO:+0100
TZNAME:CET
DTSTART:20241027T010000
END:STANDARD
BEGIN:DAYLIGHT
TZOFFSETFROM:+0100
TZOFFSETTO:+0200
TZNAME:CEST
DTSTART:20250330T010000
END:DAYLIGHT
BEGIN:STANDARD
TZOFFSETFROM:+0200
TZOFFSETTO:+0100
TZNAME:CET
DTSTART:20251026T010000
END:STANDARD
BEGIN:DAYLIGHT
TZOFFSETFROM:+0100
TZOFFSETTO:+0200
TZNAME:CEST
DTSTART:20260329T010000
END:DAYLIGHT
BEGIN:STANDARD
TZOFFSETFROM:+0200
TZOFFSETTO:+0100
TZNAME:CET
DTSTART:20261025T010000
END:STANDARD
END:VTIMEZONE
BEGIN:VEVENT
DTSTART;TZID=Europe/Rome:20250118T180000
DTEND;TZID=Europe/Rome:20250118T180000
DTSTAMP:20260423T015542
CREATED:20250113T100654Z
LAST-MODIFIED:20250113T100659Z
UID:28478-1737223200-1737223200@www.arcidiocesisassari.it
SUMMARY:Apertura Settimana di preghiera per l’unità dei cristiani. Celebrazione eucaristica presieduta da Don Giuseppe Faedda\, Direttore dell’Ufficio diocesano per l’Ecumenismo e il Dialogo interreligioso
DESCRIPTION:
URL:https://www.arcidiocesisassari.it/evento/apertura-settimana-di-preghiera-per-lunita-dei-cristiani-celebrazione-eucaristica-presieduta-da-don-giuseppe-faedda-direttore-dellufficio-diocesano-per-lecumenismo-e-il-di/
LOCATION:Parrocchia Sacra Famiglia\, Sassari
CATEGORIES:Eventi Diocesani
ATTACH;FMTTYPE=image/png:https://www.arcidiocesisassari.it/wp-content/uploads/2025/01/POST-SOCIAL-SPUC-2025.png
END:VEVENT
END:VCALENDAR