BEGIN:VCALENDAR
VERSION:2.0
PRODID:-//Arcidiocesi di Sassari - Sito ufficiale - ECPv6.15.20//NONSGML v1.0//EN
CALSCALE:GREGORIAN
METHOD:PUBLISH
X-WR-CALNAME:Arcidiocesi di Sassari - Sito ufficiale
X-ORIGINAL-URL:https://www.arcidiocesisassari.it
X-WR-CALDESC:Eventi per Arcidiocesi di Sassari - Sito ufficiale
REFRESH-INTERVAL;VALUE=DURATION:PT1H
X-Robots-Tag:noindex
X-PUBLISHED-TTL:PT1H
BEGIN:VTIMEZONE
TZID:Europe/Rome
BEGIN:DAYLIGHT
TZOFFSETFROM:+0100
TZOFFSETTO:+0200
TZNAME:CEST
DTSTART:20240331T010000
END:DAYLIGHT
BEGIN:STANDARD
TZOFFSETFROM:+0200
TZOFFSETTO:+0100
TZNAME:CET
DTSTART:20241027T010000
END:STANDARD
BEGIN:DAYLIGHT
TZOFFSETFROM:+0100
TZOFFSETTO:+0200
TZNAME:CEST
DTSTART:20250330T010000
END:DAYLIGHT
BEGIN:STANDARD
TZOFFSETFROM:+0200
TZOFFSETTO:+0100
TZNAME:CET
DTSTART:20251026T010000
END:STANDARD
BEGIN:DAYLIGHT
TZOFFSETFROM:+0100
TZOFFSETTO:+0200
TZNAME:CEST
DTSTART:20260329T010000
END:DAYLIGHT
BEGIN:STANDARD
TZOFFSETFROM:+0200
TZOFFSETTO:+0100
TZNAME:CET
DTSTART:20261025T010000
END:STANDARD
END:VTIMEZONE
BEGIN:VEVENT
DTSTART;TZID=Europe/Rome:20250101T173000
DTEND;TZID=Europe/Rome:20250101T173000
DTSTAMP:20260423T015428
CREATED:20241225T115959Z
LAST-MODIFIED:20241225T120043Z
UID:28225-1735752600-1735752600@www.arcidiocesisassari.it
SUMMARY:Preghiera del S. Rosario in occasione della Giornata Mondiale per la Pace
DESCRIPTION:
URL:https://www.arcidiocesisassari.it/evento/preghiera-del-s-rosario-in-occasione-della-giornata-mondiale-per-la-pace/
LOCATION:Cattedrale di San Nicola\, Sassari
CATEGORIES:Eventi Diocesani
ATTACH;FMTTYPE=image/jpeg:https://www.arcidiocesisassari.it/wp-content/uploads/2024/11/Eventi-Sito-Web-Duomo.jpg
END:VEVENT
BEGIN:VEVENT
DTSTART;TZID=Europe/Rome:20250101T180000
DTEND;TZID=Europe/Rome:20250101T180000
DTSTAMP:20260423T015428
CREATED:20241225T120200Z
LAST-MODIFIED:20241225T120211Z
UID:28227-1735754400-1735754400@www.arcidiocesisassari.it
SUMMARY:Pontificale in Cattedrale insieme con i parroci e le comunità che hanno per patrona la Santa Madre di Dio e tutti i gruppi e i movimenti che hanno per patrona la Vergine Maria
DESCRIPTION:
URL:https://www.arcidiocesisassari.it/evento/pontificale-in-cattedrale-insieme-con-i-parroci-e-le-comunita-che-hanno-per-patrona-la-santa-madre-di-dio-e-tutti-i-gruppi-e-i-movimenti-che-hanno-per-patrona-la-vergine-maria/
LOCATION:Cattedrale di San Nicola\, Sassari
CATEGORIES:Eventi Diocesani
ATTACH;FMTTYPE=image/jpeg:https://www.arcidiocesisassari.it/wp-content/uploads/2024/11/Eventi-Sito-Web-Duomo.jpg
END:VEVENT
END:VCALENDAR