BEGIN:VCALENDAR
VERSION:2.0
PRODID:-//Arcidiocesi di Sassari - Sito ufficiale - ECPv6.15.20//NONSGML v1.0//EN
CALSCALE:GREGORIAN
METHOD:PUBLISH
X-WR-CALNAME:Arcidiocesi di Sassari - Sito ufficiale
X-ORIGINAL-URL:https://www.arcidiocesisassari.it
X-WR-CALDESC:Eventi per Arcidiocesi di Sassari - Sito ufficiale
REFRESH-INTERVAL;VALUE=DURATION:PT1H
X-Robots-Tag:noindex
X-PUBLISHED-TTL:PT1H
BEGIN:VTIMEZONE
TZID:Europe/Rome
BEGIN:DAYLIGHT
TZOFFSETFROM:+0100
TZOFFSETTO:+0200
TZNAME:CEST
DTSTART:20230326T010000
END:DAYLIGHT
BEGIN:STANDARD
TZOFFSETFROM:+0200
TZOFFSETTO:+0100
TZNAME:CET
DTSTART:20231029T010000
END:STANDARD
BEGIN:DAYLIGHT
TZOFFSETFROM:+0100
TZOFFSETTO:+0200
TZNAME:CEST
DTSTART:20240331T010000
END:DAYLIGHT
BEGIN:STANDARD
TZOFFSETFROM:+0200
TZOFFSETTO:+0100
TZNAME:CET
DTSTART:20241027T010000
END:STANDARD
BEGIN:DAYLIGHT
TZOFFSETFROM:+0100
TZOFFSETTO:+0200
TZNAME:CEST
DTSTART:20250330T010000
END:DAYLIGHT
BEGIN:STANDARD
TZOFFSETFROM:+0200
TZOFFSETTO:+0100
TZNAME:CET
DTSTART:20251026T010000
END:STANDARD
END:VTIMEZONE
BEGIN:VEVENT
DTSTART;TZID=Europe/Rome:20241221T090000
DTEND;TZID=Europe/Rome:20241221T090000
DTSTAMP:20260423T035122
CREATED:20241217T081953Z
LAST-MODIFIED:20241217T081959Z
UID:28094-1734771600-1734771600@www.arcidiocesisassari.it
SUMMARY:Corso Educatori in istituzioni educative e in realtà parrocchiali promosso dalla Fondazione Accademia
DESCRIPTION:
URL:https://www.arcidiocesisassari.it/evento/corso-educatori-in-istituzioni-educative-e-in-realta-parrocchiali-promosso-dalla-fondazione-accademia-4/
LOCATION:Centro di Alta Formazione “Padre Manzella”.\, Via Porcellana 29\, Sassari\, SS\, 07100\, Italia
CATEGORIES:Eventi Diocesani,Fondazione Accademia Casa di Popoli, Culture e Religioni
ATTACH;FMTTYPE=image/jpeg:https://www.arcidiocesisassari.it/wp-content/uploads/2024/11/Eventi-Sito-Web-Fondazione.jpg
END:VEVENT
BEGIN:VEVENT
DTSTART;TZID=Europe/Rome:20241221T110000
DTEND;TZID=Europe/Rome:20241221T110000
DTSTAMP:20260423T035122
CREATED:20241217T081629Z
LAST-MODIFIED:20241217T081643Z
UID:28092-1734778800-1734778800@www.arcidiocesisassari.it
SUMMARY:Incontro del Vescovo Gian Franco con il volontariato caritativo e i poveri (beneficiari dei servizi) della Città. A seguire pranzo
DESCRIPTION:
URL:https://www.arcidiocesisassari.it/evento/incontro-del-vescovo-gian-franco-con-il-volontariato-caritativo-e-i-poveri-beneficiari-dei-servizi-della-citta-a-seguire-pranzo/
LOCATION:Centro di Alta Formazione San Giorgio\, Sassari
CATEGORIES:Eventi Diocesani
ATTACH;FMTTYPE=image/jpeg:https://www.arcidiocesisassari.it/wp-content/uploads/2024/11/Eventi-Sito-Web-Accompagnamento-Centro-Pastorale-1.jpg
END:VEVENT
END:VCALENDAR