BEGIN:VCALENDAR
VERSION:2.0
PRODID:-//Arcidiocesi di Sassari - Sito ufficiale - ECPv6.15.20//NONSGML v1.0//EN
CALSCALE:GREGORIAN
METHOD:PUBLISH
X-WR-CALNAME:Arcidiocesi di Sassari - Sito ufficiale
X-ORIGINAL-URL:https://www.arcidiocesisassari.it
X-WR-CALDESC:Eventi per Arcidiocesi di Sassari - Sito ufficiale
REFRESH-INTERVAL;VALUE=DURATION:PT1H
X-Robots-Tag:noindex
X-PUBLISHED-TTL:PT1H
BEGIN:VTIMEZONE
TZID:Europe/Rome
BEGIN:DAYLIGHT
TZOFFSETFROM:+0100
TZOFFSETTO:+0200
TZNAME:CEST
DTSTART:20230326T010000
END:DAYLIGHT
BEGIN:STANDARD
TZOFFSETFROM:+0200
TZOFFSETTO:+0100
TZNAME:CET
DTSTART:20231029T010000
END:STANDARD
BEGIN:DAYLIGHT
TZOFFSETFROM:+0100
TZOFFSETTO:+0200
TZNAME:CEST
DTSTART:20240331T010000
END:DAYLIGHT
BEGIN:STANDARD
TZOFFSETFROM:+0200
TZOFFSETTO:+0100
TZNAME:CET
DTSTART:20241027T010000
END:STANDARD
BEGIN:DAYLIGHT
TZOFFSETFROM:+0100
TZOFFSETTO:+0200
TZNAME:CEST
DTSTART:20250330T010000
END:DAYLIGHT
BEGIN:STANDARD
TZOFFSETFROM:+0200
TZOFFSETTO:+0100
TZNAME:CET
DTSTART:20251026T010000
END:STANDARD
END:VTIMEZONE
BEGIN:VEVENT
DTSTART;TZID=Europe/Rome:20241213T090000
DTEND;TZID=Europe/Rome:20241213T113000
DTSTAMP:20260423T035300
CREATED:20241207T112753Z
LAST-MODIFIED:20241207T121903Z
UID:27939-1734080400-1734089400@www.arcidiocesisassari.it
SUMMARY:1° Simposio internazionale promosso da Fondazione Accademia. 2^Sessione\, laboratori "Cittadinanza e inclusione"
DESCRIPTION:
URL:https://www.arcidiocesisassari.it/evento/1-simposio-internazionale-promosso-da-fondazione-accademia-2sessione-laboratori-cittadinanza-e-inclusione/
LOCATION:Centro di Alta Formazione “Padre Manzella”.\, Via Porcellana 29\, Sassari\, SS\, 07100\, Italia
CATEGORIES:Eventi Diocesani,Fondazione Accademia Casa di Popoli, Culture e Religioni
ATTACH;FMTTYPE=image/png:https://www.arcidiocesisassari.it/wp-content/uploads/2024/12/POST-SOCIAL-SIMPOSIO-INTERNAZIONALE_3.png
END:VEVENT
BEGIN:VEVENT
DTSTART;TZID=Europe/Rome:20241213T150000
DTEND;TZID=Europe/Rome:20241213T183000
DTSTAMP:20260423T035300
CREATED:20241207T113159Z
LAST-MODIFIED:20241207T113206Z
UID:27941-1734102000-1734114600@www.arcidiocesisassari.it
SUMMARY:1° Simposio internazionale promosso da Fondazione Accademia. 3^Sessione "Costruire Fratellanza: Educare a prospettive future per un Mediterraneo inclusivo""
DESCRIPTION:
URL:https://www.arcidiocesisassari.it/evento/1-simposio-internazionale-promosso-da-fondazione-accademia-3sessione-costruire-fratellanza-educare-a-prospettive-future-per-un-mediterraneo-inclusivo/
LOCATION:Aula Segni – Viale Mancini\, 3
CATEGORIES:Eventi Diocesani,Fondazione Accademia Casa di Popoli, Culture e Religioni
ATTACH;FMTTYPE=image/png:https://www.arcidiocesisassari.it/wp-content/uploads/2024/12/POST-SOCIAL-SIMPOSIO-INTERNAZIONALE_3.png
END:VEVENT
END:VCALENDAR