BEGIN:VCALENDAR
VERSION:2.0
PRODID:-//Arcidiocesi di Sassari - Sito ufficiale - ECPv6.15.20//NONSGML v1.0//EN
CALSCALE:GREGORIAN
METHOD:PUBLISH
X-ORIGINAL-URL:https://www.arcidiocesisassari.it
X-WR-CALDESC:Eventi per Arcidiocesi di Sassari - Sito ufficiale
REFRESH-INTERVAL;VALUE=DURATION:PT1H
X-Robots-Tag:noindex
X-PUBLISHED-TTL:PT1H
BEGIN:VTIMEZONE
TZID:Europe/Rome
BEGIN:DAYLIGHT
TZOFFSETFROM:+0100
TZOFFSETTO:+0200
TZNAME:CEST
DTSTART:20230326T010000
END:DAYLIGHT
BEGIN:STANDARD
TZOFFSETFROM:+0200
TZOFFSETTO:+0100
TZNAME:CET
DTSTART:20231029T010000
END:STANDARD
BEGIN:DAYLIGHT
TZOFFSETFROM:+0100
TZOFFSETTO:+0200
TZNAME:CEST
DTSTART:20240331T010000
END:DAYLIGHT
BEGIN:STANDARD
TZOFFSETFROM:+0200
TZOFFSETTO:+0100
TZNAME:CET
DTSTART:20241027T010000
END:STANDARD
BEGIN:DAYLIGHT
TZOFFSETFROM:+0100
TZOFFSETTO:+0200
TZNAME:CEST
DTSTART:20250330T010000
END:DAYLIGHT
BEGIN:STANDARD
TZOFFSETFROM:+0200
TZOFFSETTO:+0100
TZNAME:CET
DTSTART:20251026T010000
END:STANDARD
END:VTIMEZONE
BEGIN:VEVENT
DTSTART;TZID=Europe/Rome:20241207T173000
DTEND;TZID=Europe/Rome:20241207T173000
DTSTAMP:20260423T035254
CREATED:20241203T080711Z
LAST-MODIFIED:20241203T080716Z
UID:27855-1733592600-1733592600@www.arcidiocesisassari.it
SUMMARY:Incontro del Vescovo Gian Franco con l’Azione Cattolica cittadina nei primi Vespri dell’Immacolata
DESCRIPTION:
URL:https://www.arcidiocesisassari.it/evento/incontro-del-vescovo-gian-franco-con-lazione-cattolica-cittadina-nei-primi-vespri-dellimmacolata/
LOCATION:Seminario Arcivescovile\, Sassari
CATEGORIES:Eventi Diocesani
ATTACH;FMTTYPE=image/png:https://www.arcidiocesisassari.it/wp-content/uploads/2024/11/AC-Italia.png
END:VEVENT
BEGIN:VEVENT
DTSTART;TZID=Europe/Rome:20241207T193000
DTEND;TZID=Europe/Rome:20241207T193000
DTSTAMP:20260423T035255
CREATED:20241203T081213Z
LAST-MODIFIED:20241203T081243Z
UID:27857-1733599800-1733599800@www.arcidiocesisassari.it
SUMMARY:Preghiera comunitaria per la Festa Patronale del Seminario Arcivescovile e momento di fraternità
DESCRIPTION:
URL:https://www.arcidiocesisassari.it/evento/preghiera-comunitaria-per-la-festa-patronale-del-seminario-arcivescovile-e-momento-di-fraternita/
LOCATION:Seminario Arcivescovile\, Sassari
CATEGORIES:Eventi Diocesani
ATTACH;FMTTYPE=image/jpeg:https://www.arcidiocesisassari.it/wp-content/uploads/2024/12/image_123650291-14.jpg
END:VEVENT
END:VCALENDAR