BEGIN:VCALENDAR
VERSION:2.0
PRODID:-//Arcidiocesi di Sassari - Sito ufficiale - ECPv6.15.20//NONSGML v1.0//EN
CALSCALE:GREGORIAN
METHOD:PUBLISH
X-ORIGINAL-URL:https://www.arcidiocesisassari.it
X-WR-CALDESC:Eventi per Arcidiocesi di Sassari - Sito ufficiale
REFRESH-INTERVAL;VALUE=DURATION:PT1H
X-Robots-Tag:noindex
X-PUBLISHED-TTL:PT1H
BEGIN:VTIMEZONE
TZID:Europe/Rome
BEGIN:DAYLIGHT
TZOFFSETFROM:+0100
TZOFFSETTO:+0200
TZNAME:CEST
DTSTART:20230326T010000
END:DAYLIGHT
BEGIN:STANDARD
TZOFFSETFROM:+0200
TZOFFSETTO:+0100
TZNAME:CET
DTSTART:20231029T010000
END:STANDARD
BEGIN:DAYLIGHT
TZOFFSETFROM:+0100
TZOFFSETTO:+0200
TZNAME:CEST
DTSTART:20240331T010000
END:DAYLIGHT
BEGIN:STANDARD
TZOFFSETFROM:+0200
TZOFFSETTO:+0100
TZNAME:CET
DTSTART:20241027T010000
END:STANDARD
BEGIN:DAYLIGHT
TZOFFSETFROM:+0100
TZOFFSETTO:+0200
TZNAME:CEST
DTSTART:20250330T010000
END:DAYLIGHT
BEGIN:STANDARD
TZOFFSETFROM:+0200
TZOFFSETTO:+0100
TZNAME:CET
DTSTART:20251026T010000
END:STANDARD
END:VTIMEZONE
BEGIN:VEVENT
DTSTART;TZID=Europe/Rome:20241205T100000
DTEND;TZID=Europe/Rome:20241205T100000
DTSTAMP:20260423T035338
CREATED:20241129T162812Z
LAST-MODIFIED:20241129T163437Z
UID:27774-1733392800-1733392800@www.arcidiocesisassari.it
SUMMARY:Incontro di coordinamento con i Vicari Foranei e il Centro Pastorale diocesano
DESCRIPTION:
URL:https://www.arcidiocesisassari.it/evento/incontro-di-coordinamento-con-i-vicari-foranei-e-il-centro-pastorale-diocesano-2/
LOCATION:Centro pastorale\, Via dei mille 19 – Sassari
CATEGORIES:Eventi Diocesani
ATTACH;FMTTYPE=image/png:https://www.arcidiocesisassari.it/wp-content/uploads/2024/11/logo-diocesi.png
END:VEVENT
BEGIN:VEVENT
DTSTART;TZID=Europe/Rome:20241205T200000
DTEND;TZID=Europe/Rome:20241205T200000
DTSTAMP:20260423T035338
CREATED:20241129T164142Z
LAST-MODIFIED:20241129T164205Z
UID:27776-1733428800-1733428800@www.arcidiocesisassari.it
SUMMARY:Concerto per San Nicola promosso dalla Fondazione Accademia
DESCRIPTION:
URL:https://www.arcidiocesisassari.it/evento/concerto-per-san-nicola-promosso-dalla-fondazione-accademia/
LOCATION:Cattedrale di San Nicola\, Sassari
CATEGORIES:Eventi Diocesani,Fondazione Accademia Casa di Popoli, Culture e Religioni
ATTACH;FMTTYPE=image/png:https://www.arcidiocesisassari.it/wp-content/uploads/2024/11/POST-SOCIAL-CONCERTO-MEDITAZIONE-5-DICEMBRE.png
END:VEVENT
END:VCALENDAR