BEGIN:VCALENDAR
VERSION:2.0
PRODID:-//Arcidiocesi di Sassari - Sito ufficiale - ECPv6.15.20//NONSGML v1.0//EN
CALSCALE:GREGORIAN
METHOD:PUBLISH
X-WR-CALNAME:Arcidiocesi di Sassari - Sito ufficiale
X-ORIGINAL-URL:https://www.arcidiocesisassari.it
X-WR-CALDESC:Eventi per Arcidiocesi di Sassari - Sito ufficiale
REFRESH-INTERVAL;VALUE=DURATION:PT1H
X-Robots-Tag:noindex
X-PUBLISHED-TTL:PT1H
BEGIN:VTIMEZONE
TZID:Europe/Rome
BEGIN:DAYLIGHT
TZOFFSETFROM:+0100
TZOFFSETTO:+0200
TZNAME:CEST
DTSTART:20230326T010000
END:DAYLIGHT
BEGIN:STANDARD
TZOFFSETFROM:+0200
TZOFFSETTO:+0100
TZNAME:CET
DTSTART:20231029T010000
END:STANDARD
BEGIN:DAYLIGHT
TZOFFSETFROM:+0100
TZOFFSETTO:+0200
TZNAME:CEST
DTSTART:20240331T010000
END:DAYLIGHT
BEGIN:STANDARD
TZOFFSETFROM:+0200
TZOFFSETTO:+0100
TZNAME:CET
DTSTART:20241027T010000
END:STANDARD
BEGIN:DAYLIGHT
TZOFFSETFROM:+0100
TZOFFSETTO:+0200
TZNAME:CEST
DTSTART:20250330T010000
END:DAYLIGHT
BEGIN:STANDARD
TZOFFSETFROM:+0200
TZOFFSETTO:+0100
TZNAME:CET
DTSTART:20251026T010000
END:STANDARD
END:VTIMEZONE
BEGIN:VEVENT
DTSTART;TZID=Europe/Rome:20241204T110000
DTEND;TZID=Europe/Rome:20241204T110000
DTSTAMP:20260423T035121
CREATED:20241129T160710Z
LAST-MODIFIED:20241129T160719Z
UID:27766-1733310000-1733310000@www.arcidiocesisassari.it
SUMMARY:Celebrazione eucaristica presieduta dall’Arcivescovo in onore di Santa Barbara patrona dei Vigili del Fuoco
DESCRIPTION:
URL:https://www.arcidiocesisassari.it/evento/celebrazione-eucaristica-presieduta-dallarcivescovo-in-onore-di-santa-barbara-patrona-dei-vigili-del-fuoco/
LOCATION:San Pietro in Silki\, Sassari
CATEGORIES:Eventi Diocesani
ATTACH;FMTTYPE=image/jpeg:https://www.arcidiocesisassari.it/wp-content/uploads/2024/11/image_123650291-13.jpg
END:VEVENT
BEGIN:VEVENT
DTSTART;TZID=Europe/Rome:20241204T153000
DTEND;TZID=Europe/Rome:20241204T153000
DTSTAMP:20260423T035121
CREATED:20241129T161232Z
LAST-MODIFIED:20241129T161358Z
UID:27770-1733326200-1733326200@www.arcidiocesisassari.it
SUMMARY:Corso LIS
DESCRIPTION:
URL:https://www.arcidiocesisassari.it/evento/corso-lis-3/
LOCATION:Centro di Alta Formazione “Padre Manzella”.\, Via Porcellana 29\, Sassari\, SS\, 07100\, Italia
CATEGORIES:Eventi Diocesani
ATTACH;FMTTYPE=image/jpeg:https://www.arcidiocesisassari.it/wp-content/uploads/2024/11/Eventi-Sito-Web-Fondazione.jpg
END:VEVENT
BEGIN:VEVENT
DTSTART;TZID=Europe/Rome:20241204T190000
DTEND;TZID=Europe/Rome:20241204T190000
DTSTAMP:20260423T035121
CREATED:20241129T162444Z
LAST-MODIFIED:20241129T162449Z
UID:27772-1733338800-1733338800@www.arcidiocesisassari.it
SUMMARY:Celebrazione eucaristica per universitari
DESCRIPTION:
URL:https://www.arcidiocesisassari.it/evento/celebrazione-eucaristica-per-universitari-2/
LOCATION:Chiesa SS Sacramento e Cappella dell’Università
CATEGORIES:Eventi Diocesani
ATTACH;FMTTYPE=image/jpeg:https://www.arcidiocesisassari.it/wp-content/uploads/2024/11/Eventi-Sito-Web-Chiesa-Padre-Manzella.jpg
END:VEVENT
END:VCALENDAR