BEGIN:VCALENDAR
VERSION:2.0
PRODID:-//Arcidiocesi di Sassari - Sito ufficiale - ECPv6.15.20//NONSGML v1.0//EN
CALSCALE:GREGORIAN
METHOD:PUBLISH
X-WR-CALNAME:Arcidiocesi di Sassari - Sito ufficiale
X-ORIGINAL-URL:https://www.arcidiocesisassari.it
X-WR-CALDESC:Eventi per Arcidiocesi di Sassari - Sito ufficiale
REFRESH-INTERVAL;VALUE=DURATION:PT1H
X-Robots-Tag:noindex
X-PUBLISHED-TTL:PT1H
BEGIN:VTIMEZONE
TZID:Europe/Rome
BEGIN:DAYLIGHT
TZOFFSETFROM:+0100
TZOFFSETTO:+0200
TZNAME:CEST
DTSTART:20230326T010000
END:DAYLIGHT
BEGIN:STANDARD
TZOFFSETFROM:+0200
TZOFFSETTO:+0100
TZNAME:CET
DTSTART:20231029T010000
END:STANDARD
BEGIN:DAYLIGHT
TZOFFSETFROM:+0100
TZOFFSETTO:+0200
TZNAME:CEST
DTSTART:20240331T010000
END:DAYLIGHT
BEGIN:STANDARD
TZOFFSETFROM:+0200
TZOFFSETTO:+0100
TZNAME:CET
DTSTART:20241027T010000
END:STANDARD
BEGIN:DAYLIGHT
TZOFFSETFROM:+0100
TZOFFSETTO:+0200
TZNAME:CEST
DTSTART:20250330T010000
END:DAYLIGHT
BEGIN:STANDARD
TZOFFSETFROM:+0200
TZOFFSETTO:+0100
TZNAME:CET
DTSTART:20251026T010000
END:STANDARD
END:VTIMEZONE
BEGIN:VEVENT
DTSTART;TZID=Europe/Rome:20241123T080000
DTEND;TZID=Europe/Rome:20241123T130000
DTSTAMP:20260423T053443
CREATED:20241119T085134Z
LAST-MODIFIED:20241119T085134Z
UID:27461-1732348800-1732366800@www.arcidiocesisassari.it
SUMMARY:Porte Sante e Chiese Giubilari nel Medioevo. Pellegrinaggio da San Michele di Salvenero a Saccargia
DESCRIPTION:
URL:https://www.arcidiocesisassari.it/evento/porte-sante-e-chiese-giubilari-nel-medioevo-pellegrinaggio-da-san-michele-di-salvenero-a-saccargia/
LOCATION:San Michele di Salvenero
CATEGORIES:Eventi Diocesani
ATTACH;FMTTYPE=image/jpeg:https://www.arcidiocesisassari.it/wp-content/uploads/2024/11/image_123650291-10.jpg
END:VEVENT
BEGIN:VEVENT
DTSTART;TZID=Europe/Rome:20241123T090000
DTEND;TZID=Europe/Rome:20241123T120000
DTSTAMP:20260423T053443
CREATED:20241119T090600Z
LAST-MODIFIED:20241119T090600Z
UID:27465-1732352400-1732363200@www.arcidiocesisassari.it
SUMMARY:Assemblea diocesana di Azione Cattolica
DESCRIPTION:
URL:https://www.arcidiocesisassari.it/evento/assemblea-diocesana-di-azione-cattolica/
LOCATION:Centro di Alta Formazione San Giorgio\, Sassari
CATEGORIES:Eventi Diocesani
ATTACH;FMTTYPE=image/png:https://www.arcidiocesisassari.it/wp-content/uploads/2024/11/AC-Italia.png
END:VEVENT
BEGIN:VEVENT
DTSTART;TZID=Europe/Rome:20241123T090000
DTEND;TZID=Europe/Rome:20241123T120000
DTSTAMP:20260423T053443
CREATED:20241119T091032Z
LAST-MODIFIED:20241119T091131Z
UID:27469-1732352400-1732363200@www.arcidiocesisassari.it
SUMMARY:Accompagnamento percorso di rinnovamento dei CDA con Centro Studi Missione Emmaus
DESCRIPTION:
URL:https://www.arcidiocesisassari.it/evento/accompagnamento-percorso-di-rinnovamento-dei-cda-con-centro-studi-missione-emmaus-centro-di-alta-formazione-padre-manzella-sassari/
LOCATION:Centro di Alta Formazione “Padre Manzella”.\, Via Porcellana 29\, Sassari\, SS\, 07100\, Italia
CATEGORIES:Eventi Diocesani
ATTACH;FMTTYPE=image/png:https://www.arcidiocesisassari.it/wp-content/uploads/2024/11/Emmaus-Centro-studi.png
END:VEVENT
BEGIN:VEVENT
DTSTART;TZID=Europe/Rome:20241123T093000
DTEND;TZID=Europe/Rome:20241123T140000
DTSTAMP:20260423T053443
CREATED:20241119T083342Z
LAST-MODIFIED:20241120T082653Z
UID:27457-1732354200-1732370400@www.arcidiocesisassari.it
SUMMARY:“Le sfide epocali del nostro tempo”. Conferenza regionale di pastorale sociale e del lavoro
DESCRIPTION:
URL:https://www.arcidiocesisassari.it/evento/le-sfide-epocali-del-nostro-tempo-conferenza-regionale-di-pastorale-sociale-e-del-lavoro/
LOCATION:Via Mons. Cogoni 8\, Cagliari
CATEGORIES:Eventi Diocesani
ATTACH;FMTTYPE=image/jpeg:https://www.arcidiocesisassari.it/wp-content/uploads/2024/11/PHOTO-2024-11-19-17-19-27.jpg
END:VEVENT
END:VCALENDAR