BEGIN:VCALENDAR
VERSION:2.0
PRODID:-//Arcidiocesi di Sassari - Sito ufficiale - ECPv6.15.20//NONSGML v1.0//EN
CALSCALE:GREGORIAN
METHOD:PUBLISH
X-WR-CALNAME:Arcidiocesi di Sassari - Sito ufficiale
X-ORIGINAL-URL:https://www.arcidiocesisassari.it
X-WR-CALDESC:Eventi per Arcidiocesi di Sassari - Sito ufficiale
REFRESH-INTERVAL;VALUE=DURATION:PT1H
X-Robots-Tag:noindex
X-PUBLISHED-TTL:PT1H
BEGIN:VTIMEZONE
TZID:Europe/Rome
BEGIN:DAYLIGHT
TZOFFSETFROM:+0100
TZOFFSETTO:+0200
TZNAME:CEST
DTSTART:20230326T010000
END:DAYLIGHT
BEGIN:STANDARD
TZOFFSETFROM:+0200
TZOFFSETTO:+0100
TZNAME:CET
DTSTART:20231029T010000
END:STANDARD
BEGIN:DAYLIGHT
TZOFFSETFROM:+0100
TZOFFSETTO:+0200
TZNAME:CEST
DTSTART:20240331T010000
END:DAYLIGHT
BEGIN:STANDARD
TZOFFSETFROM:+0200
TZOFFSETTO:+0100
TZNAME:CET
DTSTART:20241027T010000
END:STANDARD
BEGIN:DAYLIGHT
TZOFFSETFROM:+0100
TZOFFSETTO:+0200
TZNAME:CEST
DTSTART:20250330T010000
END:DAYLIGHT
BEGIN:STANDARD
TZOFFSETFROM:+0200
TZOFFSETTO:+0100
TZNAME:CET
DTSTART:20251026T010000
END:STANDARD
END:VTIMEZONE
BEGIN:VEVENT
DTSTART;TZID=Europe/Rome:20241121T093000
DTEND;TZID=Europe/Rome:20241121T120000
DTSTAMP:20260423T053444
CREATED:20241118T150544Z
LAST-MODIFIED:20241118T150544Z
UID:27423-1732181400-1732190400@www.arcidiocesisassari.it
SUMMARY:Ritiro del clero
DESCRIPTION:
URL:https://www.arcidiocesisassari.it/evento/ritiro-del-clero/
LOCATION:Seminario Arcivescovile\, Sassari
CATEGORIES:Eventi Diocesani
ATTACH;FMTTYPE=image/jpeg:https://www.arcidiocesisassari.it/wp-content/uploads/2024/11/Eventi-Sito-Web-Ritiro-del-clero.jpg
END:VEVENT
BEGIN:VEVENT
DTSTART;TZID=Europe/Rome:20241121T170000
DTEND;TZID=Europe/Rome:20241121T190000
DTSTAMP:20260423T053444
CREATED:20241118T152802Z
LAST-MODIFIED:20241118T152802Z
UID:27426-1732208400-1732215600@www.arcidiocesisassari.it
SUMMARY:Giornata delle claustrali. Vespri e a seguire Concelebrazione Eucaristica
DESCRIPTION:
URL:https://www.arcidiocesisassari.it/evento/giornata-delle-claustrali-vespri-e-a-seguire-concelebrazione-eucaristica/
LOCATION:Monastero Sacra Famiglia Clarisse Cappuccine\, Sassari
CATEGORIES:Eventi Diocesani
ATTACH;FMTTYPE=image/jpeg:https://www.arcidiocesisassari.it/wp-content/uploads/2024/11/Eventi-Sito-Web-Monache-Cappuccine.jpg
END:VEVENT
BEGIN:VEVENT
DTSTART;TZID=Europe/Rome:20241121T180000
DTEND;TZID=Europe/Rome:20241121T190000
DTSTAMP:20260423T053444
CREATED:20241118T154455Z
LAST-MODIFIED:20241118T154455Z
UID:27434-1732212000-1732215600@www.arcidiocesisassari.it
SUMMARY:Virgo Fidelis. Celebrazione eucaristica presieduta dall’Arcivescovo
DESCRIPTION:
URL:https://www.arcidiocesisassari.it/evento/virgo-fidelis-celebrazione-eucaristica-presieduta-dallarcivescovo/
LOCATION:Chiesa di Santa Caterina\, Sassari
CATEGORIES:Eventi Diocesani
ATTACH;FMTTYPE=image/jpeg:https://www.arcidiocesisassari.it/wp-content/uploads/2024/11/Eventi-Sito-Web-Santa-Caterina.jpeg
END:VEVENT
END:VCALENDAR