BEGIN:VCALENDAR
VERSION:2.0
PRODID:-//Arcidiocesi di Sassari - Sito ufficiale - ECPv6.15.20//NONSGML v1.0//EN
CALSCALE:GREGORIAN
METHOD:PUBLISH
X-WR-CALNAME:Arcidiocesi di Sassari - Sito ufficiale
X-ORIGINAL-URL:https://www.arcidiocesisassari.it
X-WR-CALDESC:Eventi per Arcidiocesi di Sassari - Sito ufficiale
REFRESH-INTERVAL;VALUE=DURATION:PT1H
X-Robots-Tag:noindex
X-PUBLISHED-TTL:PT1H
BEGIN:VTIMEZONE
TZID:Europe/Rome
BEGIN:DAYLIGHT
TZOFFSETFROM:+0100
TZOFFSETTO:+0200
TZNAME:CEST
DTSTART:20250330T010000
END:DAYLIGHT
BEGIN:STANDARD
TZOFFSETFROM:+0200
TZOFFSETTO:+0100
TZNAME:CET
DTSTART:20251026T010000
END:STANDARD
BEGIN:DAYLIGHT
TZOFFSETFROM:+0100
TZOFFSETTO:+0200
TZNAME:CEST
DTSTART:20260329T010000
END:DAYLIGHT
BEGIN:STANDARD
TZOFFSETFROM:+0200
TZOFFSETTO:+0100
TZNAME:CET
DTSTART:20261025T010000
END:STANDARD
BEGIN:DAYLIGHT
TZOFFSETFROM:+0100
TZOFFSETTO:+0200
TZNAME:CEST
DTSTART:20270328T010000
END:DAYLIGHT
BEGIN:STANDARD
TZOFFSETFROM:+0200
TZOFFSETTO:+0100
TZNAME:CET
DTSTART:20271031T010000
END:STANDARD
END:VTIMEZONE
BEGIN:VEVENT
DTSTART;TZID=Europe/Rome:20260123T163000
DTEND;TZID=Europe/Rome:20260123T163000
DTSTAMP:20260419T193755
CREATED:20260122T085128Z
LAST-MODIFIED:20260122T085236Z
UID:32293-1769185800-1769185800@www.arcidiocesisassari.it
SUMMARY:Corso di formazione promosso dalla Fondazione Accademia "Giornalismo e Ufficio Stampa"
DESCRIPTION:
URL:https://www.arcidiocesisassari.it/evento/corso-di-formazione-promosso-dalla-fondazione-accademia-giornalismo-e-ufficio-stampa-7/
LOCATION:Centro di Alta Formazione “Padre Manzella”.\, Via Porcellana 29\, Sassari\, SS\, 07100\, Italia
CATEGORIES:Fondazione Accademia Casa di Popoli, Culture e Religioni
ATTACH;FMTTYPE=image/png:https://www.arcidiocesisassari.it/wp-content/uploads/2023/06/Logo-Fondazione-Accademia-nuovo-ok-copia-1.png
END:VEVENT
BEGIN:VEVENT
DTSTART;TZID=Europe/Rome:20260123T180000
DTEND;TZID=Europe/Rome:20260123T180000
DTSTAMP:20260419T193756
CREATED:20260122T084908Z
LAST-MODIFIED:20260122T084941Z
UID:32291-1769191200-1769191200@www.arcidiocesisassari.it
SUMMARY:Settimana di preghiera per l’unità dei cristiani. Celebrazione eucaristica presieduta da Don Pietro Ventura\, Vice Direttore Istituto Superiore di Scienze Religiose Sassari/Tempio Pausania. Parrocchia San Pio X
DESCRIPTION:
URL:https://www.arcidiocesisassari.it/evento/settimana-di-preghiera-per-lunita-dei-cristiani-celebrazione-eucaristica-presieduta-da-don-pietro-ventura-vice-direttore-istituto-superiore-di-scienze-religiose-sassari-tempio-pausania-par/
LOCATION:Parrocchia San Pio X\, Li Punti
CATEGORIES:Eventi Diocesani
ATTACH;FMTTYPE=image/png:https://www.arcidiocesisassari.it/wp-content/uploads/2026/01/img_2575-1.png
END:VEVENT
END:VCALENDAR