BEGIN:VCALENDAR
VERSION:2.0
PRODID:-//Arcidiocesi di Sassari - Sito ufficiale - ECPv6.15.20//NONSGML v1.0//EN
CALSCALE:GREGORIAN
METHOD:PUBLISH
X-WR-CALNAME:Arcidiocesi di Sassari - Sito ufficiale
X-ORIGINAL-URL:https://www.arcidiocesisassari.it
X-WR-CALDESC:Eventi per Arcidiocesi di Sassari - Sito ufficiale
REFRESH-INTERVAL;VALUE=DURATION:PT1H
X-Robots-Tag:noindex
X-PUBLISHED-TTL:PT1H
BEGIN:VTIMEZONE
TZID:Europe/Rome
BEGIN:DAYLIGHT
TZOFFSETFROM:+0100
TZOFFSETTO:+0200
TZNAME:CEST
DTSTART:20240331T010000
END:DAYLIGHT
BEGIN:STANDARD
TZOFFSETFROM:+0200
TZOFFSETTO:+0100
TZNAME:CET
DTSTART:20241027T010000
END:STANDARD
BEGIN:DAYLIGHT
TZOFFSETFROM:+0100
TZOFFSETTO:+0200
TZNAME:CEST
DTSTART:20250330T010000
END:DAYLIGHT
BEGIN:STANDARD
TZOFFSETFROM:+0200
TZOFFSETTO:+0100
TZNAME:CET
DTSTART:20251026T010000
END:STANDARD
BEGIN:DAYLIGHT
TZOFFSETFROM:+0100
TZOFFSETTO:+0200
TZNAME:CEST
DTSTART:20260329T010000
END:DAYLIGHT
BEGIN:STANDARD
TZOFFSETFROM:+0200
TZOFFSETTO:+0100
TZNAME:CET
DTSTART:20261025T010000
END:STANDARD
END:VTIMEZONE
BEGIN:VEVENT
DTSTART;TZID=Europe/Rome:20251219T113000
DTEND;TZID=Europe/Rome:20251219T113000
DTSTAMP:20260419T165330
CREATED:20251217T081025Z
LAST-MODIFIED:20251217T081036Z
UID:31990-1766143800-1766143800@www.arcidiocesisassari.it
SUMMARY:Auguri di Natale con l'Amministratore diocesano per la Curia e il Centro Pastorale diocesano
DESCRIPTION:
URL:https://www.arcidiocesisassari.it/evento/auguri-di-natale-con-lamministratore-diocesano-per-la-curia-e-il-centro-pastorale-diocesano/
LOCATION:Aula Monsignor Isgrò – Arcivescovado
ATTACH;FMTTYPE=image/png:https://www.arcidiocesisassari.it/wp-content/uploads/2018/11/logo2_2-1.png
END:VEVENT
BEGIN:VEVENT
DTSTART;TZID=Europe/Rome:20251219T163000
DTEND;TZID=Europe/Rome:20251219T163000
DTSTAMP:20260419T165330
CREATED:20251217T081644Z
LAST-MODIFIED:20251217T081653Z
UID:31992-1766161800-1766161800@www.arcidiocesisassari.it
SUMMARY:Corso di formazione promosso dalla Fondazione Accademia "Giornalismo e Ufficio Stampa"
DESCRIPTION:
URL:https://www.arcidiocesisassari.it/evento/corso-di-formazione-promosso-dalla-fondazione-accademia-giornalismo-e-ufficio-stampa-5/
LOCATION:Centro di Alta Formazione “Padre Manzella”.\, Via Porcellana 29\, Sassari\, SS\, 07100\, Italia
CATEGORIES:Fondazione Accademia Casa di Popoli, Culture e Religioni
ATTACH;FMTTYPE=image/png:https://www.arcidiocesisassari.it/wp-content/uploads/2023/06/Logo-Fondazione-Accademia-nuovo-ok-copia-1.png
END:VEVENT
BEGIN:VEVENT
DTSTART;TZID=Europe/Rome:20251219T170000
DTEND;TZID=Europe/Rome:20251219T170000
DTSTAMP:20260419T165330
CREATED:20251217T082040Z
LAST-MODIFIED:20251217T083416Z
UID:31994-1766163600-1766163600@www.arcidiocesisassari.it
SUMMARY:Corso promosso dalla Fondazione Accademia "Lingua e cultura araba"
DESCRIPTION:
URL:https://www.arcidiocesisassari.it/evento/corso-promosso-dalla-fondazione-accademia-lingua-e-cultura-araba-18/
LOCATION:Centro di Alta Formazione “Padre Manzella”.\, Via Porcellana 29\, Sassari\, SS\, 07100\, Italia
CATEGORIES:Fondazione Accademia Casa di Popoli, Culture e Religioni
ATTACH;FMTTYPE=image/png:https://www.arcidiocesisassari.it/wp-content/uploads/2023/06/Logo-Fondazione-Accademia-nuovo-ok-copia-1.png
END:VEVENT
BEGIN:VEVENT
DTSTART;TZID=Europe/Rome:20251219T190000
DTEND;TZID=Europe/Rome:20251219T190000
DTSTAMP:20260419T165330
CREATED:20251218T082702Z
LAST-MODIFIED:20251218T082712Z
UID:32001-1766170800-1766170800@www.arcidiocesisassari.it
SUMMARY:Concerto e Lettura degli Scritti del Servo di Dio Giovanni Battista Manzella
DESCRIPTION:
URL:https://www.arcidiocesisassari.it/evento/concerto-e-lettura-degli-scritti-del-servo-di-dio-giovanni-battista-manzella/
LOCATION:Chiesa SS Sacramento e Cappella dell’Università
CATEGORIES:Fondazione Accademia Casa di Popoli, Culture e Religioni
ATTACH;FMTTYPE=image/jpeg:https://www.arcidiocesisassari.it/wp-content/uploads/2025/12/img_2362.jpg
END:VEVENT
END:VCALENDAR