BEGIN:VCALENDAR
VERSION:2.0
PRODID:-//Arcidiocesi di Sassari - Sito ufficiale - ECPv6.15.20//NONSGML v1.0//EN
CALSCALE:GREGORIAN
METHOD:PUBLISH
X-WR-CALNAME:Arcidiocesi di Sassari - Sito ufficiale
X-ORIGINAL-URL:https://www.arcidiocesisassari.it
X-WR-CALDESC:Eventi per Arcidiocesi di Sassari - Sito ufficiale
REFRESH-INTERVAL;VALUE=DURATION:PT1H
X-Robots-Tag:noindex
X-PUBLISHED-TTL:PT1H
BEGIN:VTIMEZONE
TZID:Europe/Rome
BEGIN:DAYLIGHT
TZOFFSETFROM:+0100
TZOFFSETTO:+0200
TZNAME:CEST
DTSTART:20240331T010000
END:DAYLIGHT
BEGIN:STANDARD
TZOFFSETFROM:+0200
TZOFFSETTO:+0100
TZNAME:CET
DTSTART:20241027T010000
END:STANDARD
BEGIN:DAYLIGHT
TZOFFSETFROM:+0100
TZOFFSETTO:+0200
TZNAME:CEST
DTSTART:20250330T010000
END:DAYLIGHT
BEGIN:STANDARD
TZOFFSETFROM:+0200
TZOFFSETTO:+0100
TZNAME:CET
DTSTART:20251026T010000
END:STANDARD
BEGIN:DAYLIGHT
TZOFFSETFROM:+0100
TZOFFSETTO:+0200
TZNAME:CEST
DTSTART:20260329T010000
END:DAYLIGHT
BEGIN:STANDARD
TZOFFSETFROM:+0200
TZOFFSETTO:+0100
TZNAME:CET
DTSTART:20261025T010000
END:STANDARD
END:VTIMEZONE
BEGIN:VEVENT
DTSTART;TZID=Europe/Rome:20251115T090000
DTEND;TZID=Europe/Rome:20251115T090000
DTSTAMP:20260419T164834
CREATED:20251111T072620Z
LAST-MODIFIED:20251111T072647Z
UID:31603-1763197200-1763197200@www.arcidiocesisassari.it
SUMMARY:Percorso di formazione lavoro di comunità e interventi sociali caritativi
DESCRIPTION:
URL:https://www.arcidiocesisassari.it/evento/percorso-di-formazione-lavoro-di-comunita-e-interventi-sociali-caritativi-8/
LOCATION:Centro di Alta Formazione “Padre Manzella”.\, Via Porcellana 29\, Sassari\, SS\, 07100\, Italia
CATEGORIES:Fondazione Accademia Casa di Popoli, Culture e Religioni
ATTACH;FMTTYPE=image/png:https://www.arcidiocesisassari.it/wp-content/uploads/2023/06/Logo-Fondazione-Accademia-nuovo-ok-copia-1.png
END:VEVENT
BEGIN:VEVENT
DTSTART;TZID=Europe/Rome:20251115T150000
DTEND;TZID=Europe/Rome:20251115T150000
DTSTAMP:20260419T164834
CREATED:20251111T072805Z
LAST-MODIFIED:20251111T072851Z
UID:31605-1763218800-1763218800@www.arcidiocesisassari.it
SUMMARY:Percorso di formazione lavoro di comunità e interventi sociali caritativi
DESCRIPTION:
URL:https://www.arcidiocesisassari.it/evento/percorso-di-formazione-lavoro-di-comunita-e-interventi-sociali-caritativi-9/
LOCATION:Centro di Alta Formazione “Padre Manzella”.\, Via Porcellana 29\, Sassari\, SS\, 07100\, Italia
CATEGORIES:Fondazione Accademia Casa di Popoli, Culture e Religioni
ATTACH;FMTTYPE=image/png:https://www.arcidiocesisassari.it/wp-content/uploads/2023/06/Logo-Fondazione-Accademia-nuovo-ok-copia-1.png
END:VEVENT
BEGIN:VEVENT
DTSTART;TZID=Europe/Rome:20251115T170000
DTEND;TZID=Europe/Rome:20251115T170000
DTSTAMP:20260419T164834
CREATED:20251115T092433Z
LAST-MODIFIED:20251115T092608Z
UID:31614-1763226000-1763226000@www.arcidiocesisassari.it
SUMMARY:Concelebrazione eucaristica presieduta da Mons. Antonio Tamponi\, Amministratore diocesano e inaugurazione del nuovo Tabernacolo e del nuovo Fonte battesimale della Parrocchia Cristo Risorto in Porto Torres
DESCRIPTION:
URL:https://www.arcidiocesisassari.it/evento/concelebrazione-eucaristica-presieduta-da-mons-antonio-tamponi-amministratore-diocesano-e-inaugurazione-del-nuovo-tabernacolo-e-del-nuovo-fonte-battesimale-della-parrocchia-cristo-risorto-in-porto-t/
LOCATION:Parrocchia Cristo Risorto\, Porto Torres
CATEGORIES:Eventi Diocesani
ATTACH;FMTTYPE=image/jpeg:https://www.arcidiocesisassari.it/wp-content/uploads/2017/03/xtor.jpg
END:VEVENT
END:VCALENDAR